BEGIN:VCALENDAR
VERSION:2.0
PRODID:-//Family Service Center (FSC) - ECPv6.15.20//NONSGML v1.0//EN
CALSCALE:GREGORIAN
METHOD:PUBLISH
X-WR-CALNAME:Family Service Center (FSC)
X-ORIGINAL-URL:https://familyservicecenter.org
X-WR-CALDESC:Events for Family Service Center (FSC)
REFRESH-INTERVAL;VALUE=DURATION:PT1H
X-Robots-Tag:noindex
X-PUBLISHED-TTL:PT1H
BEGIN:VTIMEZONE
TZID:America/Chicago
BEGIN:DAYLIGHT
TZOFFSETFROM:-0600
TZOFFSETTO:-0500
TZNAME:CDT
DTSTART:20240310T080000
END:DAYLIGHT
BEGIN:STANDARD
TZOFFSETFROM:-0500
TZOFFSETTO:-0600
TZNAME:CST
DTSTART:20241103T070000
END:STANDARD
BEGIN:DAYLIGHT
TZOFFSETFROM:-0600
TZOFFSETTO:-0500
TZNAME:CDT
DTSTART:20250309T080000
END:DAYLIGHT
BEGIN:STANDARD
TZOFFSETFROM:-0500
TZOFFSETTO:-0600
TZNAME:CST
DTSTART:20251102T070000
END:STANDARD
BEGIN:DAYLIGHT
TZOFFSETFROM:-0600
TZOFFSETTO:-0500
TZNAME:CDT
DTSTART:20260308T080000
END:DAYLIGHT
BEGIN:STANDARD
TZOFFSETFROM:-0500
TZOFFSETTO:-0600
TZNAME:CST
DTSTART:20261101T070000
END:STANDARD
END:VTIMEZONE
BEGIN:VEVENT
DTSTART;TZID=America/Chicago:20250313T180000
DTEND;TZID=America/Chicago:20250313T190000
DTSTAMP:20260425T164939
CREATED:20250225T230538Z
LAST-MODIFIED:20250226T195714Z
UID:10699-1741888800-1741892400@familyservicecenter.org
SUMMARY:PANEL: Healthy Kids Social Media Habits for Families: Raising Kids in a Connected World
DESCRIPTION:Join the Woman’s Club of Wilmette for a lively and informative discussion about how we can help our kids navigate social media in a healthy way!\nDoors open at 5:30 \nRegister here: registration link
URL:https://familyservicecenter.org/calendar/panel-healthy-kids-social-media-habits-for-families-raising-kids-in-a-connected-world/
LOCATION:Women’s Club of Wilmette\, 930 Greenleaf Ave\, Wilmette\, 60091\, United States
CATEGORIES:Community Event,Community Partner Event
ATTACH;FMTTYPE=image/jpeg:https://familyservicecenter.org/wp-content/uploads/2025/02/Mental-Health-Panel_March-13-2025_Womans-Club-of-Wilmette.jpg
END:VEVENT
END:VCALENDAR