BEGIN:VCALENDAR
VERSION:2.0
PRODID:-//Family Service Center (FSC) - ECPv6.15.20//NONSGML v1.0//EN
CALSCALE:GREGORIAN
METHOD:PUBLISH
X-WR-CALNAME:Family Service Center (FSC)
X-ORIGINAL-URL:https://familyservicecenter.org
X-WR-CALDESC:Events for Family Service Center (FSC)
REFRESH-INTERVAL;VALUE=DURATION:PT1H
X-Robots-Tag:noindex
X-PUBLISHED-TTL:PT1H
BEGIN:VTIMEZONE
TZID:America/Chicago
BEGIN:DAYLIGHT
TZOFFSETFROM:-0600
TZOFFSETTO:-0500
TZNAME:CDT
DTSTART:20240310T080000
END:DAYLIGHT
BEGIN:STANDARD
TZOFFSETFROM:-0500
TZOFFSETTO:-0600
TZNAME:CST
DTSTART:20241103T070000
END:STANDARD
BEGIN:DAYLIGHT
TZOFFSETFROM:-0600
TZOFFSETTO:-0500
TZNAME:CDT
DTSTART:20250309T080000
END:DAYLIGHT
BEGIN:STANDARD
TZOFFSETFROM:-0500
TZOFFSETTO:-0600
TZNAME:CST
DTSTART:20251102T070000
END:STANDARD
BEGIN:DAYLIGHT
TZOFFSETFROM:-0600
TZOFFSETTO:-0500
TZNAME:CDT
DTSTART:20260308T080000
END:DAYLIGHT
BEGIN:STANDARD
TZOFFSETFROM:-0500
TZOFFSETTO:-0600
TZNAME:CST
DTSTART:20261101T070000
END:STANDARD
END:VTIMEZONE
BEGIN:VEVENT
DTSTART;TZID=America/Chicago:20251108T180000
DTEND;TZID=America/Chicago:20251108T210000
DTSTAMP:20260423T112837
CREATED:20251023T204019Z
LAST-MODIFIED:20251023T204019Z
UID:11009-1762624800-1762635600@familyservicecenter.org
SUMMARY:Taste of Glenview 2025 presented by the Glenview Sunrise Rotary Club
DESCRIPTION:Get your tickets at https://bit.ly/tasteofglenview2025 \nThe Glenview Sunrise Rotary Club is thrilled to present Taste of Glenview\, a flavorful evening celebrating the community’s rich and diverse culinary scene. Mark your calendar for Saturday\, November 8\, 2025\, from 6:00 PM to 9:00 PM at the Glenview Park Center—where local cuisine meets global inspiration. \nThis signature event invites food lovers and community supporters alike to enjoy an unforgettable night of international bites\, live music\, and community spirit. Guests will sample an exciting array of small plates prepared by some of Glenview’s favorite restaurants—offering everything from savory dishes to sweet treats that reflect the vibrant flavors of the community. \n“The funds raised from this event allow the Rotary Club of Glenview Sunrise to support local organizations and perform service projects throughout the year\,” said Marcia Cebula\, Club President. “Having fun while helping others is what we’re all about.” \nLast year’s Taste of Glenview was a sold-out success\, and this year promises to be even more exciting. Proceeds from the event will directly support the Rotary Club’s ongoing efforts to uplift and serve the Glenview community. \nDon’t miss your chance to eat well—and do good.\nTickets and event details are available now at: https://bit.ly/tasteofglenview2025
URL:https://familyservicecenter.org/calendar/taste-of-glenview-2025-presented-by-the-glenview-sunrise-rotary-club/
LOCATION:Glenview Park Center\, 2400 Chestnut Ave.\, Glenview\, 60026\, United States
CATEGORIES:Community Event,Community Partner Event
ATTACH;FMTTYPE=image/jpeg:https://familyservicecenter.org/wp-content/uploads/2025/10/Rotary-Taste-2025-8.5x11-with-restaurants10.21.25.jpg
END:VEVENT
END:VCALENDAR