BEGIN:VCALENDAR
VERSION:2.0
PRODID:-//Family Service Center (FSC) - ECPv6.15.20//NONSGML v1.0//EN
CALSCALE:GREGORIAN
METHOD:PUBLISH
X-WR-CALNAME:Family Service Center (FSC)
X-ORIGINAL-URL:https://familyservicecenter.org
X-WR-CALDESC:Events for Family Service Center (FSC)
REFRESH-INTERVAL;VALUE=DURATION:PT1H
X-Robots-Tag:noindex
X-PUBLISHED-TTL:PT1H
BEGIN:VTIMEZONE
TZID:America/Chicago
BEGIN:DAYLIGHT
TZOFFSETFROM:-0600
TZOFFSETTO:-0500
TZNAME:CDT
DTSTART:20240310T080000
END:DAYLIGHT
BEGIN:STANDARD
TZOFFSETFROM:-0500
TZOFFSETTO:-0600
TZNAME:CST
DTSTART:20241103T070000
END:STANDARD
BEGIN:DAYLIGHT
TZOFFSETFROM:-0600
TZOFFSETTO:-0500
TZNAME:CDT
DTSTART:20250309T080000
END:DAYLIGHT
BEGIN:STANDARD
TZOFFSETFROM:-0500
TZOFFSETTO:-0600
TZNAME:CST
DTSTART:20251102T070000
END:STANDARD
BEGIN:DAYLIGHT
TZOFFSETFROM:-0600
TZOFFSETTO:-0500
TZNAME:CDT
DTSTART:20260308T080000
END:DAYLIGHT
BEGIN:STANDARD
TZOFFSETFROM:-0500
TZOFFSETTO:-0600
TZNAME:CST
DTSTART:20261101T070000
END:STANDARD
END:VTIMEZONE
BEGIN:VEVENT
DTSTART;TZID=America/Chicago:20251118T190000
DTEND;TZID=America/Chicago:20251118T200000
DTSTAMP:20260423T112833
CREATED:20251118T164857Z
LAST-MODIFIED:20251118T164857Z
UID:11052-1763492400-1763496000@familyservicecenter.org
SUMMARY:[FAN] Tiny Experiments: How to Live Freely in a Goal-Obsessed World
DESCRIPTION:Tuesday\, November 18\, 2025\, 12:00 PM CT\, Tiny Experiments: How to Live Freely in a Goal-Obsessed World\, a FAN webinar featuring Anne-Laure Le Cunff\, Ph.D.\, in conversation with Susan Dominus (FAN ’25). \nREGISTRATION: www.bit.ly/LeCunffFANWebinar \nBONUS BOOK GIVEAWAY! FAN is giving away copies of Tiny Experiments to randomly selected Zoom attendees. Details on the webinar registration page. \nMost of us are taught to climb a ladder of success: set ambitious goals\, work harder\, follow the script. But what happens when the script no longer fits\, or when life throws uncertainty in our path? \nIn Tiny Experiments: How to Live Freely in a Goal-Obsessed World\, Anne-Laure Le Cunff\, Ph.D.\, argues that rigid goal setting is out of step with the complexity of modern life. Instead of being paralyzed by uncertainty or trapped in toxic productivity\, she shows how curiosity\, small tests\, and playful experimentation can help us grow in ways that are more sustainable\, creative\, and meaningful. \nHer tools for cultivating an experimental mindset are both science-backed and deeply practical—timely guidance in a world where many feel burned out\, stuck\, or unsure of their next steps. \nDrawing on scientific evidence and her own journey from tech executive to neuroscientist and entrepreneur\, Le Cunff invites us to rethink ambition itself. Can we replace fixed ladders with growth loops? And what would it mean to live a life defined not by control\, but by curiosity? \nLe Cunff is an award-winning neuroscientist and entrepreneur. She is the founder of Ness Labs\, where her weekly newsletter reaches more than 130\,000 readers. Her research at King’s College London focuses on the evolutionary neuroscience of curiosity. She previously worked at Google on digital health projects and has received support from UK Research and Innovation\, the British Neuroscience Association\, and the King’s Engaged Research Network. \nLe Cunff will be in conversation with Susan Dominus (FAN ’25)\, Pulitzer Prize-winning staff writer for The New York Times Magazine and author of the 2025 book The Family Dynamic: A Journey into the Mystery of Sibling Success. \nThis event is suitable for youth 12+. It will be recorded and available on FAN’s website and YouTube channel. \nSponsored by FAN\, in partnership with The Alliance for Early Childhood\, The Avery Coonley School\, Avoca D37\, Baker Demonstration School\, Beacon Academy\, Bennett Day School\, Bernard Zell Anshe Emet Day School\, Brickton Montessori School\, British International School of Chicago\, Catherine Cook School\, Compass Health Center\, Countryside Day School\, Evanston Scholars\, Evanston Township HS D202\, The Family Institute at Northwestern University\, Family Service Center\, The Frances Xavier Warde School\, Francis W. Parker School\, Glencoe D35\, Glenview Public Library\, Gorton Center\, Hyde Park Day School\, Illinois Student Assistance Commission\, Kenilworth D38\, Lake Bluff D65\, Lake Forest Community High School D115\, Latin School of Chicago\, Leo Catholic High School\, Libertyville D70\, Lycée Français de Chicago\, Magnetar Capital\, North Shore Country Day\, Northwestern University Office of Neighborhood and Community Relations\, Northwestern University School of Education and Social Policy\, Pope John XXIII School\, Psychgeist Media\, Regina Dominican High School\, Resurrection College Prep High School\, Rogers Park Montessori School\, Roycemore School\, Sacred Heart Schools\, Santa Clara University School of Law\, Science & Arts Academy\, The Sonia Shankman Orthogenic School\, Stevenson High School D125\, Township High School D113\, TrueNorth Educational Cooperative #804\, Wilmette Public Library\, Winnetka D36\, Wolcott College Prep\, Woodlands Academy\, Youth & Opportunity United.
URL:https://familyservicecenter.org/calendar/fan-tiny-experiments-how-to-live-freely-in-a-goal-obsessed-world/
LOCATION:Zoom
CATEGORIES:Community Event,Community Partner Event,FAN Event
ATTACH;FMTTYPE=application/pdf:https://familyservicecenter.org/wp-content/uploads/2025/11/LeCunffFlyerReleaseOpt.pdf
ORGANIZER;CN="FAN%3A Family Action Network":MAILTO:info@familyactionnetwork.net
END:VEVENT
END:VCALENDAR