BEGIN:VCALENDAR
VERSION:2.0
PRODID:-//Family Service Center (FSC) - ECPv6.15.20//NONSGML v1.0//EN
CALSCALE:GREGORIAN
METHOD:PUBLISH
X-WR-CALNAME:Family Service Center (FSC)
X-ORIGINAL-URL:https://familyservicecenter.org
X-WR-CALDESC:Events for Family Service Center (FSC)
REFRESH-INTERVAL;VALUE=DURATION:PT1H
X-Robots-Tag:noindex
X-PUBLISHED-TTL:PT1H
BEGIN:VTIMEZONE
TZID:America/Chicago
BEGIN:DAYLIGHT
TZOFFSETFROM:-0600
TZOFFSETTO:-0500
TZNAME:CDT
DTSTART:20250309T080000
END:DAYLIGHT
BEGIN:STANDARD
TZOFFSETFROM:-0500
TZOFFSETTO:-0600
TZNAME:CST
DTSTART:20251102T070000
END:STANDARD
BEGIN:DAYLIGHT
TZOFFSETFROM:-0600
TZOFFSETTO:-0500
TZNAME:CDT
DTSTART:20260308T080000
END:DAYLIGHT
BEGIN:STANDARD
TZOFFSETFROM:-0500
TZOFFSETTO:-0600
TZNAME:CST
DTSTART:20261101T070000
END:STANDARD
BEGIN:DAYLIGHT
TZOFFSETFROM:-0600
TZOFFSETTO:-0500
TZNAME:CDT
DTSTART:20270314T080000
END:DAYLIGHT
BEGIN:STANDARD
TZOFFSETFROM:-0500
TZOFFSETTO:-0600
TZNAME:CST
DTSTART:20271107T070000
END:STANDARD
END:VTIMEZONE
BEGIN:VEVENT
DTSTART;TZID=America/Chicago:20260126T190000
DTEND;TZID=America/Chicago:20260126T203000
DTSTAMP:20260423T072858
CREATED:20251222T190715Z
LAST-MODIFIED:20251222T190715Z
UID:11135-1769454000-1769459400@familyservicecenter.org
SUMMARY:John Trautwein on Life Teammates
DESCRIPTION:Since losing his 15-year-old son in 2010\, former MLB player John Trautwein has been sharing what he has learned as a grieving parent caught unaware of the challenges that faced his son Will—struggles that burden millions of kids today. John’s wonderful team of lifelong friends stepped up to help him and his family turn a tragedy into a message of love and hope. Come hear Trautwein’s motivational message for all of us\, in the Sanctuary\, in this event co-sponsored by Kenilworth Union’s Adult Education Committee and Alison Tobey Smart Memorial Fund. This event is open to all. Please register before attending. \nJohn Trautwein is a Chicago-area native who played baseball at Northwestern University before pitching in the MLB for seven years with the Montreal Expos and Boston Red Sox. Following the death of Will\, the oldest of his four children with wife Susie\, the Trautweins founded “The Will to Live Foundation\,” spreading a hopeful message\, to include the importance of life teammates and teaching teens how to improve their own “will to live.”  Awards received include the “George W. Bush Presidential Point of Light Award” and Northwestern University’s prestigious “A Life Touched\, A Generation Changed” award. \nAll are welcome\, please register here: https://kuc.org/event/john-trautwein-on-life-teammates/
URL:https://familyservicecenter.org/calendar/john-trautwein-on-life-teammates/
LOCATION:Kenilworth Union Church\, 211 Kenilworth Avenue\, Kenilworth\, IL\, 60043
CATEGORIES:Community Event,Community Partner Event
ATTACH;FMTTYPE=image/png:https://familyservicecenter.org/wp-content/uploads/2025/12/atsteammates.png
END:VEVENT
END:VCALENDAR