BEGIN:VCALENDAR
VERSION:2.0
PRODID:-//Family Service Center (FSC) - ECPv6.15.20//NONSGML v1.0//EN
CALSCALE:GREGORIAN
METHOD:PUBLISH
X-WR-CALNAME:Family Service Center (FSC)
X-ORIGINAL-URL:https://familyservicecenter.org
X-WR-CALDESC:Events for Family Service Center (FSC)
REFRESH-INTERVAL;VALUE=DURATION:PT1H
X-Robots-Tag:noindex
X-PUBLISHED-TTL:PT1H
BEGIN:VTIMEZONE
TZID:America/Chicago
BEGIN:DAYLIGHT
TZOFFSETFROM:-0600
TZOFFSETTO:-0500
TZNAME:CDT
DTSTART:20250309T080000
END:DAYLIGHT
BEGIN:STANDARD
TZOFFSETFROM:-0500
TZOFFSETTO:-0600
TZNAME:CST
DTSTART:20251102T070000
END:STANDARD
BEGIN:DAYLIGHT
TZOFFSETFROM:-0600
TZOFFSETTO:-0500
TZNAME:CDT
DTSTART:20260308T080000
END:DAYLIGHT
BEGIN:STANDARD
TZOFFSETFROM:-0500
TZOFFSETTO:-0600
TZNAME:CST
DTSTART:20261101T070000
END:STANDARD
BEGIN:DAYLIGHT
TZOFFSETFROM:-0600
TZOFFSETTO:-0500
TZNAME:CDT
DTSTART:20270314T080000
END:DAYLIGHT
BEGIN:STANDARD
TZOFFSETFROM:-0500
TZOFFSETTO:-0600
TZNAME:CST
DTSTART:20271107T070000
END:STANDARD
END:VTIMEZONE
BEGIN:VEVENT
DTSTART;TZID=America/Chicago:20260224T190000
DTEND;TZID=America/Chicago:20260224T200000
DTSTAMP:20260423T043759
CREATED:20260211T191501Z
LAST-MODIFIED:20260211T192243Z
UID:11206-1771959600-1771963200@familyservicecenter.org
SUMMARY:[FAN] The Balancing Act: Creating Healthy Dependency and Connection Without Losing Yourself
DESCRIPTION:Tuesday\, February 24\, 2026 | 7:00 PM CT. The Balancing Act: Creating Healthy Dependency and Connection Without Losing Yourself A FAN webinar featuring Nedra Glover Tawwab\, LCSW\, in conversation with Natalie Y. Moore \nREGISTRATION: www.bit.ly/TawwabFANWebinar \nBonus Book Giveaway: FAN is giving away copies of The Balancing Act to randomly selected Zoom attendees. Details on the webinar registration page. \nLicensed therapist Nedra Glover Tawwab\, LCSW (FAN ’23)\, has built a remarkable platform exploring relationships and self-care—two New York Times bestsellers\, 1.8 million Instagram followers\, a weekly podcast\, and a widely-read newsletter. Her newest book\, The Balancing Act: Creating Healthy Dependency and Connection Without Losing Yourself\, extends her groundbreaking work by offering a roadmap to relationships that honor both dependency and individuality. \nWith signature clarity and honesty\, Tawwab explores what it means to cultivate healthy dependency in contrast to the extremes of hyper-independence or codependency that many of us struggle with. While her previous books examine the importance of setting boundaries for internal peace\, The Balancing Act combines boundary-setting with building and maintaining relationships through genuine connection. Covering attachment styles\, family systems\, social media habits\, and cultural norms\, Tawwab addresses why we swing between hyper-independence and hyper-dependence\, how to recognize unhealthy patterns from codependency to indiscriminate distrust\, and practical strategies for strengthening relationships while maintaining individuality. \nEach chapter combines relatable vignettes\, expert guidance\, and reflective questions that empower readers to evaluate their patterns\, navigate conflict\, and build relationships that feel authentic\, nourishing\, and balanced. Whether seeking more closeness with a partner\, clarity with a friend or family member\, or greater agency in your own life\, The Balancing Act offers a path toward connections that sustain rather than drain you. \nTawwab will be in conversation with Natalie Y. Moore\, an award-winning journalist and author and senior lecturer and director of audio programming at the Medill School of Journalism at Northwestern University. \nThis event is suitable for youth 12+. It will be recorded and available on FAN’s website and YouTube channel. \nSponsored by FAN\, in partnership with The Alliance for Early Childhood\, The Avery Coonley School\, Avoca D37\, Baker Demonstration School\, Beacon Academy\, Bennett Day School\, Bernard Zell Anshe Emet Day School\, Brickton Montessori School\, British International School of Chicago\, Catherine Cook School\, Compass Health Center\, Connections for the Homeless\, Countryside Day School\, Evanston Scholars\, Evanston Township HS D202\, The Family Institute at Northwestern University\, Family Service Center\, Foundation 65\, The Frances Xavier Warde School\, Francis W. Parker School\, Glencoe D35\, Glenview Public Library\, Gorton Center\, Hyde Park Day School\, Illinois Student Assistance Commission\, Kenilworth D38\, Lake Bluff D65\, Latin School of Chicago\, Leo Catholic High School\, Libertyville D70\, Lycée Français de Chicago\, Magnetar Capital\, Near North Montessori School\, North Shore Country Day\, Northwestern University Office of Neighborhood and Community Relations\, Northwestern University School of Education and Social Policy\, Pope John XXIII School\, Regina Dominican High School\, Resurrection College Prep High School\, Rogers Park Montessori School\, Roycemore School\, Santa Clara University School of Law\, Science & Arts Academy\, The Sonia Shankman Orthogenic School\, Stevenson High School D125\, Township High School D113\, Township High School D214\, TrueNorth Educational Cooperative #804\, UChicago Network for College Success\, Wilmette Public Library\, Winnetka D36\, Wolcott College Prep\, Woodlands Academy\, Youth & Opportunity United
URL:https://familyservicecenter.org/calendar/fan-shared-wisdom-cultural-evolution-in-the-age-of-ai-2/
LOCATION:Zoom
CATEGORIES:Community Event,Community Partner Event,FAN Event
ATTACH;FMTTYPE=image/jpeg:https://familyservicecenter.org/wp-content/uploads/2026/02/Tawwab26Flyer-scaled.jpg
ORGANIZER;CN="FAN%3A Family Action Network":MAILTO:info@familyactionnetwork.net
END:VEVENT
END:VCALENDAR