BEGIN:VCALENDAR
VERSION:2.0
PRODID:-//Family Service Center (FSC) - ECPv6.15.20//NONSGML v1.0//EN
CALSCALE:GREGORIAN
METHOD:PUBLISH
X-WR-CALNAME:Family Service Center (FSC)
X-ORIGINAL-URL:https://familyservicecenter.org
X-WR-CALDESC:Events for Family Service Center (FSC)
REFRESH-INTERVAL;VALUE=DURATION:PT1H
X-Robots-Tag:noindex
X-PUBLISHED-TTL:PT1H
BEGIN:VTIMEZONE
TZID:America/Chicago
BEGIN:DAYLIGHT
TZOFFSETFROM:-0600
TZOFFSETTO:-0500
TZNAME:CDT
DTSTART:20250309T080000
END:DAYLIGHT
BEGIN:STANDARD
TZOFFSETFROM:-0500
TZOFFSETTO:-0600
TZNAME:CST
DTSTART:20251102T070000
END:STANDARD
BEGIN:DAYLIGHT
TZOFFSETFROM:-0600
TZOFFSETTO:-0500
TZNAME:CDT
DTSTART:20260308T080000
END:DAYLIGHT
BEGIN:STANDARD
TZOFFSETFROM:-0500
TZOFFSETTO:-0600
TZNAME:CST
DTSTART:20261101T070000
END:STANDARD
BEGIN:DAYLIGHT
TZOFFSETFROM:-0600
TZOFFSETTO:-0500
TZNAME:CDT
DTSTART:20270314T080000
END:DAYLIGHT
BEGIN:STANDARD
TZOFFSETFROM:-0500
TZOFFSETTO:-0600
TZNAME:CST
DTSTART:20271107T070000
END:STANDARD
END:VTIMEZONE
BEGIN:VEVENT
DTSTART;TZID=America/Chicago:20260310T190000
DTEND;TZID=America/Chicago:20260310T200000
DTSTAMP:20260423T043759
CREATED:20260225T193110Z
LAST-MODIFIED:20260225T193110Z
UID:11239-1773169200-1773172800@familyservicecenter.org
SUMMARY:[FAN] The First Eight: A Personal History of the Pioneering Black Congressmen Who Shaped a Nation
DESCRIPTION:The First Eight: A Personal History of the Pioneering Black Congressmen Who Shaped a Nation A FAN in-person featuring Rep. James E. Clyburn\, in conversation with Natalie Y. Moore. Evanston Township High School Auditorium\, 1600 Dodge Ave.\, Door 6\, Evanston\, IL 60201 \nNo registration required. \nBonus Book Giveaway: FAN is giving away copies of The First Eight to attendees\, while supplies last. \nToday\, South Carolina Congressman James E. Clyburn (SC-06) is renowned as a Democratic kingmaker and one of the most distinguished Black political leaders in American history. But behind him stand eight other remarkable men: the first Black politicians elected to Congress from his home state\, who blazed the path for his own ascent. Since arriving in Congress in the early nineties\, Congressman Clyburn has been guided by their wisdom and example — and sobered by their struggles\, particularly against the enduring demon of American racism. \nSouth Carolina’s first eight Black congressmen all rose to office in the wake of the Civil War and emancipation — only to see their gains extinguished as the dark veil of Jim Crow fell across the South. It would take nearly a century before the ninth Black representative from the state\, Clyburn himself\, was elected. \nIn The First Eight: A Personal History of the Pioneering Black Congressmen Who Shaped a Nation\, Rep. Clyburn brings these men’s stories — and their message of liberty — to the nation they served. Among them: Joseph Rainey\, born enslaved in 1832\, who became the first Black politician elected to the U.S. House of Representatives in American history; Robert Smalls\, celebrated for his extraordinary Civil War heroism\, when he commandeered a Confederate vessel and delivered it — and his freedom — to the Union; and Richard Cain\, editor of a widely read newspaper for Black South Carolinians and a figure deeply associated with Emanuel AME Church\, one of the oldest and most distinguished Black churches in America\, and where nine Black congregants were murdered in a racist mass shooting in 2015. \nThrough the trials\, tribulations\, triumphs\, and setbacks all nine men faced\, Rep. Clyburn illuminates a whole new way of understanding the arc from the Civil War to the present day. \nThe First Eight is a singular blend of history and memoir — at once a monument to eight trailblazing Americans\, a meditation on progress\, and a clear-eyed reckoning with how far we have yet to go in our nation’s ongoing struggle for true democracy. \nRep. Clyburn will be in conversation with Natalie Y. Moore\, an award-winning journalist and author and senior lecturer and director of audio programming at the Medill School of Journalism at Northwestern University. \nThis event is suitable for youth ages 12 and up. It will be recorded but not live streamed and available on FAN’s website and YouTube channel. \nSponsored by FAN\, in partnership with The Avery Coonley School\, Avoca D37\, Baker Demonstration School\, Beacon Academy\, Bennett Day School\, Bernard Zell Anshe Emet Day School\, Brickton Montessori School\, British International School of Chicago\, Catherine Cook School\, Compass Health Center\, Countryside Day School\, Evanston Scholars\, Evanston Township HS D202\, Family Service Center\, Foundation 65\, The Frances Xavier Warde School\, Francis W. Parker School\, Glenview Public Library\, Gorton Center\, Hyde Park Day School\, Illinois Student Assistance Commission\, Kenilworth D38\, Lake Bluff D65\, Latin School of Chicago\, Leo Catholic High School\, Libertyville D70\, Lycée Français de Chicago\, Near North Montessori School\, North Shore Country Day\, Northwestern University Office of Neighborhood and Community Relations\, Northwestern University School of Education and Social Policy\, Pope John XXIII School\, Regina Dominican High School\, Resurrection College Prep High School\, Rogers Park Montessori School\, Roycemore School\, Santa Clara University School of Law\, Science & Arts Academy\, The Sonia Shankman Orthogenic School\, Stevenson High School D125\, Township High School D113\, Township High School D214\, TrueNorth Educational Cooperative #804\, Wilmette Public Library\, Woodlands Academy\, Youth & Opportunity United.
URL:https://familyservicecenter.org/calendar/fan-the-first-eight-a-personal-history-of-the-pioneering-black-congressmen-who-shaped-a-nation/
LOCATION:Evanston Township High School Auditorium\, 1600 Dodge Ave\, Evanston\, IL\, 60201
CATEGORIES:Community Event,Community Partner Event,FAN Event,Parenting
ATTACH;FMTTYPE=image/jpeg:https://familyservicecenter.org/wp-content/uploads/2026/02/ClyburnFlyer-scaled.jpg
ORGANIZER;CN="FAN%3A Family Action Network":MAILTO:info@familyactionnetwork.net
END:VEVENT
END:VCALENDAR