BEGIN:VCALENDAR
VERSION:2.0
PRODID:-//Family Service Center (FSC) - ECPv6.15.20//NONSGML v1.0//EN
CALSCALE:GREGORIAN
METHOD:PUBLISH
X-WR-CALNAME:Family Service Center (FSC)
X-ORIGINAL-URL:https://familyservicecenter.org
X-WR-CALDESC:Events for Family Service Center (FSC)
REFRESH-INTERVAL;VALUE=DURATION:PT1H
X-Robots-Tag:noindex
X-PUBLISHED-TTL:PT1H
BEGIN:VTIMEZONE
TZID:America/Chicago
BEGIN:DAYLIGHT
TZOFFSETFROM:-0600
TZOFFSETTO:-0500
TZNAME:CDT
DTSTART:20240310T080000
END:DAYLIGHT
BEGIN:STANDARD
TZOFFSETFROM:-0500
TZOFFSETTO:-0600
TZNAME:CST
DTSTART:20241103T070000
END:STANDARD
BEGIN:DAYLIGHT
TZOFFSETFROM:-0600
TZOFFSETTO:-0500
TZNAME:CDT
DTSTART:20250309T080000
END:DAYLIGHT
BEGIN:STANDARD
TZOFFSETFROM:-0500
TZOFFSETTO:-0600
TZNAME:CST
DTSTART:20251102T070000
END:STANDARD
BEGIN:DAYLIGHT
TZOFFSETFROM:-0600
TZOFFSETTO:-0500
TZNAME:CDT
DTSTART:20260308T080000
END:DAYLIGHT
BEGIN:STANDARD
TZOFFSETFROM:-0500
TZOFFSETTO:-0600
TZNAME:CST
DTSTART:20261101T070000
END:STANDARD
END:VTIMEZONE
BEGIN:VEVENT
DTSTART;TZID=America/Chicago:20250224T120000
DTEND;TZID=America/Chicago:20250224T130000
DTSTAMP:20260424T173647
CREATED:20250218T200414Z
LAST-MODIFIED:20250218T200414Z
UID:10669-1740398400-1740402000@familyservicecenter.org
SUMMARY:Determined: A Science of Life without Free Will Robert Sapolsky\, Ph.D.
DESCRIPTION:Monday\, February 24\, 2025\, 12:00 PM CT\, Determined: A Science of Life without Free Will\, a FAN webinar featuring Robert Sapolsky\, Ph.D. in conversation with Oliver Burkeman (FAN ’24). \nREGISTER: www.bit.ly/SapolskyFANWebinar \nBONUS AFTER-HOURS EVENT: Attendees who purchase a copy of Determined from FAN’s partner bookseller The Book Stall are invited to attend an AFTER-HOURS event hosted by Sapolsky that will start immediately after the webinar. Details on the webinar registration page. \nOne of our great behavioral scientists\, Robert Sapolsky\, Ph.D.\, the bestselling author of Behave: The Biology of Humans at Our Best and Worst\, mounts a devastating scientific and philosophical case against free will—an argument with profound consequences. \nBehave\, Sapolsky’s now classic account of why humans do good and why they do bad\, pointed toward an unsettling conclusion: we may not grasp exactly how nature and nurture create the physics and chemistry that cause all human behavior\, but that doesn’t mean they don’t exist. In his latest book Determined: A Science of Life Without Free Will\, Sapolsky takes his argument all the way\, mounting a brilliant (and in his inimitable way\, delightful) full-frontal assault on the pleasant fantasy that there is some separate self who tells our biology what to do. \nDetermined offers a marvelous synthesis of what we know about consciousness—the tight weave between reason and emotion and between stimulus and response in the moment and over a life. One by one\, Sapolsky takes out all the major arguments for free will\, cutting a path through the thickets of chaos theory and quantum physics. But as Sapolsky acknowledges\, it’s sometimes impossible to uncouple from our zeal to judge people\, including ourselves. Determined applies this new understanding to some of our most essential questions around punishment\, morality\, and living well together. Most of all\, Sapolsky argues that while accepting the reality about free will is monumentally difficult\, it will make for a much more humane world. \nSapolsky will be in conversation with Oliver Burkeman (FAN ’24)\, New York Times bestselling author of Meditations for Mortals: Four Weeks to Embrace Your Limitations and Make Time for What Counts; Four Thousand Weeks: Time Management for Mortals\, and The Antidote: Happiness for People Who Can’t Stand Positive Thinking. \nThis event is suitable for youth 12+. It will be recorded and available on FAN’s website and YouTube channel.
URL:https://familyservicecenter.org/calendar/determined-a-science-of-life-without-free-will-robert-sapolsky-ph-d/
LOCATION:Zoom
CATEGORIES:Community Event,Community Partner Event,FAN Event
ATTACH;FMTTYPE=application/pdf:https://familyservicecenter.org/wp-content/uploads/2025/02/SapolskyFlyerReleaseOpt.pdf
ORGANIZER;CN="FAN%3A Family Action Network":MAILTO:info@familyactionnetwork.net
END:VEVENT
END:VCALENDAR