BEGIN:VCALENDAR
VERSION:2.0
PRODID:-//Family Service Center (FSC) - ECPv6.15.20//NONSGML v1.0//EN
CALSCALE:GREGORIAN
METHOD:PUBLISH
X-WR-CALNAME:Family Service Center (FSC)
X-ORIGINAL-URL:https://familyservicecenter.org
X-WR-CALDESC:Events for Family Service Center (FSC)
REFRESH-INTERVAL;VALUE=DURATION:PT1H
X-Robots-Tag:noindex
X-PUBLISHED-TTL:PT1H
BEGIN:VTIMEZONE
TZID:America/Chicago
BEGIN:DAYLIGHT
TZOFFSETFROM:-0600
TZOFFSETTO:-0500
TZNAME:CDT
DTSTART:20240310T080000
END:DAYLIGHT
BEGIN:STANDARD
TZOFFSETFROM:-0500
TZOFFSETTO:-0600
TZNAME:CST
DTSTART:20241103T070000
END:STANDARD
BEGIN:DAYLIGHT
TZOFFSETFROM:-0600
TZOFFSETTO:-0500
TZNAME:CDT
DTSTART:20250309T080000
END:DAYLIGHT
BEGIN:STANDARD
TZOFFSETFROM:-0500
TZOFFSETTO:-0600
TZNAME:CST
DTSTART:20251102T070000
END:STANDARD
BEGIN:DAYLIGHT
TZOFFSETFROM:-0600
TZOFFSETTO:-0500
TZNAME:CDT
DTSTART:20260308T080000
END:DAYLIGHT
BEGIN:STANDARD
TZOFFSETFROM:-0500
TZOFFSETTO:-0600
TZNAME:CST
DTSTART:20261101T070000
END:STANDARD
END:VTIMEZONE
BEGIN:VEVENT
DTSTART;TZID=America/Chicago:20250317T190000
DTEND;TZID=America/Chicago:20250317T200000
DTSTAMP:20260424T173700
CREATED:20250318T213722Z
LAST-MODIFIED:20250318T213722Z
UID:10735-1742238000-1742241600@familyservicecenter.org
SUMMARY:Me\, But Better: The Science and Promise of Personality Change Olga Khazan
DESCRIPTION:Monday\, March 17\, 2025\, 7:00 PM CT\, Me\, But Better: The Science and Promise of Personality Change\, a FAN webinar featuring Olga Khazan in conversation with Maria Konnikova. \nREGISTER: www.bit.ly/KhazanFANWebinar \nBONUS AFTER-HOURS EVENT: Attendees who purchase a copy of Me\, But Better from FAN’s partner bookseller The Book Stall are invited to attend an AFTER-HOURS event hosted by Khazan that will start immediately after the webinar. Details on the webinar registration page. \nIn recent years\, Olga Khazan had been spiraling toward an existential crisis. Though she treasured her loving relationship and her dream job\, her neurotic personality often left her snatching dissatisfaction from the jaws of happiness. While her overachieving had always been a professional asset\, Khazan lately felt like her brittle disposition could shatter under the weight of just one more thing—but could she really change her entire personality? \nResearch shows that you can alter your personality traits by behaving in ways that align with the kind of person you’d like to be—a process that can make you happier\, healthier\, and more successful. In Me\, But Better: The Science and Promise of Personality Change\, Khazan embarks on an experiment to see whether it’s possible to go from dwelling in dread to “radiating joy.” For one year\, she reluctantly clicked “yes” on a bucket list of new experiences—from meditation to improv to sailing—that forced her to at least act happy. With a skeptic’s eye\, Khazan brings you on her journey through the science of personality\, presenting evidence-backed techniques to help you change your mind for the better. Sharply witty and deeply fascinating\, Me\, But Better offers a probing inquiry into what it means to live a fulfilling life\, and how you can keep diving into change\, no matter how uncomfortable it feels. \nKhazan is a staff writer for The Atlantic and the author of the 2020 book Weird: The Power of Being an Outsider in an Insider World. She has also written for the New York Times\, the Los Angeles Times\, the Washington Post\, Forbes\, and other publications. \nKhazan will be in conversation with Maria Konnikova\, the author\, most recently\, of The Biggest Bluff\, a New York Times bestseller\, and the bestsellers The Confidence Game and Mastermind. She is the cohost\, along with Nate Silver\, of the weekly podcast Risky Business. While researching The Biggest Bluff\, Konnikova became an international poker champion\, a World Series of Poker Bracelet Winner\, an ambassador for PokerStars Team Pro\, and the winner of over $1\,000\,000 in tournament earnings. \nThis event is suitable for youth 12+. It will be recorded and available on FAN’s website and YouTube channel.
URL:https://familyservicecenter.org/calendar/me-but-better-the-science-and-promise-of-personality-change-olga-khazan/
LOCATION:Zoom
CATEGORIES:Community Event,Community Partner Event,FAN Event
ATTACH;FMTTYPE=application/pdf:https://familyservicecenter.org/wp-content/uploads/2025/03/KhazanFlyerReleaseOpt.pdf
ORGANIZER;CN="FAN%3A Family Action Network":MAILTO:info@familyactionnetwork.net
END:VEVENT
END:VCALENDAR