BEGIN:VCALENDAR
VERSION:2.0
PRODID:-//Family Service Center (FSC) - ECPv6.15.20//NONSGML v1.0//EN
CALSCALE:GREGORIAN
METHOD:PUBLISH
X-ORIGINAL-URL:https://familyservicecenter.org
X-WR-CALDESC:Events for Family Service Center (FSC)
REFRESH-INTERVAL;VALUE=DURATION:PT1H
X-Robots-Tag:noindex
X-PUBLISHED-TTL:PT1H
BEGIN:VTIMEZONE
TZID:America/Chicago
BEGIN:DAYLIGHT
TZOFFSETFROM:-0600
TZOFFSETTO:-0500
TZNAME:CDT
DTSTART:20250309T080000
END:DAYLIGHT
BEGIN:STANDARD
TZOFFSETFROM:-0500
TZOFFSETTO:-0600
TZNAME:CST
DTSTART:20251102T070000
END:STANDARD
BEGIN:DAYLIGHT
TZOFFSETFROM:-0600
TZOFFSETTO:-0500
TZNAME:CDT
DTSTART:20260308T080000
END:DAYLIGHT
BEGIN:STANDARD
TZOFFSETFROM:-0500
TZOFFSETTO:-0600
TZNAME:CST
DTSTART:20261101T070000
END:STANDARD
BEGIN:DAYLIGHT
TZOFFSETFROM:-0600
TZOFFSETTO:-0500
TZNAME:CDT
DTSTART:20270314T080000
END:DAYLIGHT
BEGIN:STANDARD
TZOFFSETFROM:-0500
TZOFFSETTO:-0600
TZNAME:CST
DTSTART:20271107T070000
END:STANDARD
END:VTIMEZONE
BEGIN:VEVENT
DTSTART;TZID=America/Chicago:20260112T190000
DTEND;TZID=America/Chicago:20260112T200000
DTSTAMP:20260423T145043
CREATED:20260107T203342Z
LAST-MODIFIED:20260107T203342Z
UID:11140-1768244400-1768248000@familyservicecenter.org
SUMMARY:[FAN] The Running Ground: A Father\, a Son\, and the Simplest of Sports
DESCRIPTION:Monday\, January 12\, 2026\, 7:00 PM CT\, The Running Ground: A Father\, a Son\, and the Simplest of Sports\, a FAN webinar featuring Nicholas Thompson\, in conversation with David Epstein (FAN ’16\, ’20). \nREGISTRATION: www.bit.ly/NTFANWebinar \nBONUS BOOK GIVEAWAY! FAN is giving away copies of The Running Ground to randomly selected Zoom attendees. Details on the webinar registration page. \nFor Nicholas Thompson\, author of the new book The Running Ground: A Father\, a Son\, and the Simplest of Sports\, running has always been about something more than putting one foot in front of another. He ran his first mile at age five\, using it to connect with his father as his family fell apart. As a young man\, it was a sport that transformed\, and then shook\, his sense of self-worth. In his 30s\, it was a way of coping with a profound medical scare. \nBy his early 40s\, Thompson had many accomplishments. He was the editor in chief of a major magazine; a devoted husband and father; and a passionate runner. But he was haunted by the recent death of his brilliant\, complicated father and the crack-up that derailed his father’s life. Had the intensity and ambition he’d inherited made a personal crisis inevitable for him as well? \nThen a chance offer gave him the opportunity to train for the Chicago Marathon with elite coaches. Giving himself over to the sport more fully than ever before\, he discovered that aging didn’t necessarily put you on an unbroken trajectory of decline. For seven years after his father died\, Thompson transforms his body to perform at its highest capacity\, and the profound discipline and awareness he builds along the way changes every aspect of his life. Throughout the narrative\, he weaves in stories of remarkable men and women who have used the sport to transcend some of the hardest moments in life. \nThe Running Ground is a story about fathers\, sons\, and the most basic and most beautiful of sports. \nThompson is the CEO of The Atlantic\, a position he has held since 2021. He was previously the editor-in-chief of WIRED and the editor of NewYorker.com. He films a daily video on tech policy for LinkedIn and has roughly two million followers across social media platforms. He writes a monthly newsletter\, The Most Interesting Reads\, which currently has about 500\,000 readers\, about the best things he has read recently. \nThompson has long been a competitive runner; in 2021\, he set the American record for men 45+ in the 50K race. \nThompson will be in conversation with David Epstein (FAN ’16\, ’20)\, a science writer and author of the New York Times bestsellers Range and The Sports Gene. His forthcoming book\, Inside the Box: How Constraints Make Us Better\, will be published in May 2026. \nThis event is suitable for youth 12+. It will be recorded and available on FAN’s website and YouTube channel. \nSponsored by FAN\, in partnership with The Avery Coonley School\, Avoca D37\, Baker Demonstration School\, Beacon Academy\, Bennett Day School\, Bernard Zell Anshe Emet Day School\, Brickton Montessori School\, British International School of Chicago\, Catherine Cook School\, Compass Health Center\, Evanston Township HS D202\, The Family Institute at Northwestern University\, Family Service Center\, The Frances Xavier Warde School\, Francis W. Parker School\, Glencoe D35\, Glenview Public Library\, Gorton Center\, Hyde Park Day School\, Illinois Student Assistance Commission\, Kenilworth D38\, Lake Bluff D65\, Lake Forest Community High School D115\, Latin School of Chicago\, Leo Catholic High School\, Libertyville D70\, Lycée Français de Chicago\, North Shore Country Day\, Northwestern University Office of Neighborhood and Community Relations\, Northwestern University School of Education and Social Policy\, Pope John XXIII School\, Psychgeist Media\, Regina Dominican High School\, Resurrection College Prep High School\, Rogers Park Montessori School\, Roycemore School\, Santa Clara University School of Law\, Science & Arts Academy\, The Sonia Shankman Orthogenic School\, Stevenson High School D125\, Township High School D113\, TrueNorth Educational Cooperative #804\, Wilmette Public Library\, Woodlands Academy.
URL:https://familyservicecenter.org/calendar/fan-the-running-ground-a-father-a-son-and-the-simplest-of-sports/
LOCATION:Zoom
CATEGORIES:Community Event,Community Partner Event,FAN Event
ATTACH;FMTTYPE=application/pdf:https://familyservicecenter.org/wp-content/uploads/2026/01/ThompsonFlyerReleaseOpt.pdf
ORGANIZER;CN="FAN%3A Family Action Network":MAILTO:info@familyactionnetwork.net
END:VEVENT
END:VCALENDAR