BEGIN:VCALENDAR
VERSION:2.0
PRODID:-//Family Service Center (FSC) - ECPv6.15.20//NONSGML v1.0//EN
CALSCALE:GREGORIAN
METHOD:PUBLISH
X-ORIGINAL-URL:https://familyservicecenter.org
X-WR-CALDESC:Events for Family Service Center (FSC)
REFRESH-INTERVAL;VALUE=DURATION:PT1H
X-Robots-Tag:noindex
X-PUBLISHED-TTL:PT1H
BEGIN:VTIMEZONE
TZID:America/Chicago
BEGIN:DAYLIGHT
TZOFFSETFROM:-0600
TZOFFSETTO:-0500
TZNAME:CDT
DTSTART:20250309T080000
END:DAYLIGHT
BEGIN:STANDARD
TZOFFSETFROM:-0500
TZOFFSETTO:-0600
TZNAME:CST
DTSTART:20251102T070000
END:STANDARD
BEGIN:DAYLIGHT
TZOFFSETFROM:-0600
TZOFFSETTO:-0500
TZNAME:CDT
DTSTART:20260308T080000
END:DAYLIGHT
BEGIN:STANDARD
TZOFFSETFROM:-0500
TZOFFSETTO:-0600
TZNAME:CST
DTSTART:20261101T070000
END:STANDARD
BEGIN:DAYLIGHT
TZOFFSETFROM:-0600
TZOFFSETTO:-0500
TZNAME:CDT
DTSTART:20270314T080000
END:DAYLIGHT
BEGIN:STANDARD
TZOFFSETFROM:-0500
TZOFFSETTO:-0600
TZNAME:CST
DTSTART:20271107T070000
END:STANDARD
END:VTIMEZONE
BEGIN:VEVENT
DTSTART;TZID=America/Chicago:20260219T190000
DTEND;TZID=America/Chicago:20260219T200000
DTSTAMP:20260423T145703
CREATED:20260209T203342Z
LAST-MODIFIED:20260211T191549Z
UID:11200-1771527600-1771531200@familyservicecenter.org
SUMMARY:[FAN] Shared Wisdom: Cultural Evolution in the Age of AI
DESCRIPTION:Thursday\, February 19\, 2026 | 7:00 PM CT. Shared Wisdom: Cultural Evolution in the Age of AI A FAN webinar featuring Alex “Sandy” Pentland\, Ph.D.\, in conversation with Lisa Kay Solomon \nREGISTRATION: www.bit.ly/PentlandFANWebinar \nBonus Book Giveaway: FAN is giving away copies of Shared Wisdom to randomly selected Zoom attendees. Details on the webinar registration page. \nIn Shared Wisdom: Cultural Evolution in the Age of AI\, Alex “Sandy” Pentland\, Ph.D.\, delves into the history of innovation\, emphasizing how technologies and cultural inventions have shaped human society. Humanity’s great leaps forward—the rise of civilizations\, the Enlightenment\, and the Scientific Revolution— were all propelled by cultural inventions that accelerated our rate of innovation and built collective wisdom. Solving today’s global challenges\, from climate change and pandemics to failing social institutions\, will require similarly fundamental inventions. \nShared Wisdom provides a unique perspective on human society and offers insights into how we can use technologies like digital media and AI to augment\, rather than replace\, our human capacity for deliberation. Drawing on his expertise in both social science and technology\, Pentland bridges the gap between these disciplines and offers a holistic view of the challenges and opportunities we face in the age of AI. By examining our deep history\, he argues that the better we understand the key factors that accelerate cultural evolution\, the greater our chances of surmounting our current problems. \nPentland is a Fellow at the Stanford Institute for Human-Centered AI and Toshiba Professor of Media Arts & Science at MIT’s Sloan School of Management. He is a serial entrepreneur\, was named one of the “100 People to Watch This Century” by Newsweek and “one of the seven most powerful data scientists in the world” by Forbes. He is a member of the U.S. National Academy of Engineering\, an advisor to Abu Dhabi Investment Authority Lab\, and an advisor to Google\, AT&T\, and the UN Secretary General. \nPentland will be in conversation with Lisa Kay Solomon (FAN ’24)\, a lecturer and the Futurist in Residence at the Stanford University d.school. She is the host of the How We Future podcast and Substack and the co-author of the bestselling books Moments of Impact and Design a Better Business. \nThis event is suitable for youth 12+. It will be recorded and available on FAN’s website and YouTube channel. \nSponsored by FAN\, in partnership with The Avery Coonley School\, Baker Demonstration School\, Barrington D220\, Beacon Academy\, Bennett Day School\, Bernard Zell Anshe Emet Day School\, British International School of Chicago\, Catherine Cook School\, Compass Health Center\, Countryside Day School\, Evanston Scholars\, Evanston Township HS D202\, The Family Institute at Northwestern University\, Family Service Center\, The Frances Xavier Warde School\, Francis W. Parker School\, Glencoe D35\, Glenview Public Library\, Gorton Center\, Hyde Park Day School\, Illinois Student Assistance Commission\, Kenilworth D38\, Lake Bluff D65\, Lake Forest Community High School D115\, Latin School of Chicago\, Leo Catholic High School\, Libertyville D70\, Lycée Français de Chicago\, Magnetar Capital\, Near North Montessori School\, North Shore Country Day\, Northwestern University Office of Neighborhood and Community Relations\, Northwestern University School of Education and Social Policy\, Pope John XXIII School\, Psychgeist Media\, Regina Dominican High School\, Resurrection College Prep High School\, Rogers Park Montessori School\, Roycemore School\, Sacred Heart Schools\, St. Bernard’s School\, Santa Clara University School of Law\, Science & Arts Academy\, The Sonia Shankman Orthogenic School\, Stevenson High School D125\, Township High School D113\, Township High School D214\, TrueNorth Educational Cooperative #804\, UChicago Network for College Success\, Wilmette Public Library\, Wolcott College Prep\, Woodlands Academy\, Youth & Opportunity United.
URL:https://familyservicecenter.org/calendar/fan-shared-wisdom-cultural-evolution-in-the-age-of-ai/
LOCATION:Zoom
CATEGORIES:Community Event,Community Partner Event,FAN Event
ATTACH;FMTTYPE=image/jpeg:https://familyservicecenter.org/wp-content/uploads/2026/02/PentlandFlyer-scaled.jpg
ORGANIZER;CN="FAN%3A Family Action Network":MAILTO:info@familyactionnetwork.net
END:VEVENT
END:VCALENDAR