BEGIN:VCALENDAR
VERSION:2.0
PRODID:-//Family Service Center (FSC) - ECPv6.15.20//NONSGML v1.0//EN
CALSCALE:GREGORIAN
METHOD:PUBLISH
X-WR-CALNAME:Family Service Center (FSC)
X-ORIGINAL-URL:https://familyservicecenter.org
X-WR-CALDESC:Events for Family Service Center (FSC)
REFRESH-INTERVAL;VALUE=DURATION:PT1H
X-Robots-Tag:noindex
X-PUBLISHED-TTL:PT1H
BEGIN:VTIMEZONE
TZID:America/Chicago
BEGIN:DAYLIGHT
TZOFFSETFROM:-0600
TZOFFSETTO:-0500
TZNAME:CDT
DTSTART:20240310T080000
END:DAYLIGHT
BEGIN:STANDARD
TZOFFSETFROM:-0500
TZOFFSETTO:-0600
TZNAME:CST
DTSTART:20241103T070000
END:STANDARD
BEGIN:DAYLIGHT
TZOFFSETFROM:-0600
TZOFFSETTO:-0500
TZNAME:CDT
DTSTART:20250309T080000
END:DAYLIGHT
BEGIN:STANDARD
TZOFFSETFROM:-0500
TZOFFSETTO:-0600
TZNAME:CST
DTSTART:20251102T070000
END:STANDARD
BEGIN:DAYLIGHT
TZOFFSETFROM:-0600
TZOFFSETTO:-0500
TZNAME:CDT
DTSTART:20260308T080000
END:DAYLIGHT
BEGIN:STANDARD
TZOFFSETFROM:-0500
TZOFFSETTO:-0600
TZNAME:CST
DTSTART:20261101T070000
END:STANDARD
END:VTIMEZONE
BEGIN:VEVENT
DTSTART;TZID=America/Chicago:20250903T190000
DTEND;TZID=America/Chicago:20250903T200000
DTSTAMP:20260423T221947
CREATED:20250828T170240Z
LAST-MODIFIED:20250908T191549Z
UID:10909-1756926000-1756929600@familyservicecenter.org
SUMMARY:[FAN] Dream School: Finding the College That's Right for You
DESCRIPTION:Wednesday\, September 3\, 2025\, 7:00 PM CT\, Dream School: Finding the College That’s Right for You\, a FAN webinar featuring Jeff Selingo (FAN ’20\, ’21\, ‘22)\, in conversation with Frank Bruni (FAN ’15). \nREGISTER: www.bit.ly/Selingo25FANWebinar \nBONUS BOOK GIVEAWAY! FAN is giving away copies of Dream School to randomly selected Zoom attendees. Details on the webinar registration page. \nAttending college has long been a rite of passage for millions of teens and a bedrock of the American dream. But that well-worn path has lately taken a wrong turn\, denying admission even to super-achievers and putting intolerable stress on family finances. Now\, in Dream School: Finding the College That’s Right for You\, Jeff Selingo (FAN ’20\, ’21\, ’22) shifts the spotlight from how colleges pick students to how students can better pick colleges. \nWith test-optional policies and grade inflation leveling the playing field for applicants\, getting into prestigious schools has become a kind of lottery. “Plan A” may work out\, but increasingly it isn’t—so Selingo urges families to ditch the “Top 25 or bust” mindset and look beyond the usual suspects. Hidden-gem schools with incredible value and rich opportunities are waiting to be discovered. \nBacked by unparalleled research—and an eye-opening survey of more than 3\,000 parents—Dream School reveals what really matters in a college: strong job prospects after graduation\, hands-on learning experiences\, and a sense of belonging. To help students find their perfect match\, Selingo highlights 75 accessible and affordable colleges that will satisfy those priorities. \nOrganized into three easy-to-digest sections\, Dream School explains why elite college degrees turn out to matter less than you think\, why many parents and students are choosing value over prestige\, and how to make sure the degree really pays off. \nSelingo is a New York Times bestselling author of three books on education and the job market. For more than twenty-five years\, his in-depth reporting and storytelling have provided practical insight about the future of higher education and the workforce to university leaders\, corporate executives\, as well as students and parents. \nSelingo will be in conversation with prominent New York Times journalist Frank Bruni (FAN ’15)\, author of Where You Go Is Not Who You’ll Be\, about the college admissions mania; The Beauty of Dusk; and most recently\, The Age of Grievance. He is the Eugene C. Patterson Professor of the Practice of Journalism and Public Policy at Duke University\, teaching media-oriented classes in the Sanford School of Public Policy. \nThis event is suitable for youth 12+. It will be recorded and available on FAN’s website and YouTube channel.
URL:https://familyservicecenter.org/calendar/dream-school-finding-the-college-thats-right-for-you/
LOCATION:Zoom
CATEGORIES:Community Event,Community Partner Event,FAN Event,Parenting
ATTACH;FMTTYPE=application/pdf:https://familyservicecenter.org/wp-content/uploads/2025/08/Selingo25FlyerReleaseOpt.pdf
ORGANIZER;CN="FAN%3A Family Action Network":MAILTO:info@familyactionnetwork.net
END:VEVENT
BEGIN:VEVENT
DTSTART;TZID=America/Chicago:20250913T180000
DTEND;TZID=America/Chicago:20250913T230000
DTSTAMP:20260423T221947
CREATED:20250812T014659Z
LAST-MODIFIED:20250828T200732Z
UID:10894-1757786400-1757804400@familyservicecenter.org
SUMMARY:ROCKTEMBER⚡FEST
DESCRIPTION:A Charity Music Event\nLive Music | Food & Drinks | Raffles | Live Auction\nClassic Rock Covers on stage at 6:30pm\nFood & Drinks provided by Oak \nBenefiting FSC & other local awesome agencies and programs! \n$85/Ticket (PRESALE $65/TICKET THROUGH 8/31)\nScan the QR on the flyer to register. \n 
URL:https://familyservicecenter.org/calendar/roctember%e2%9a%a1fest/
LOCATION:MLB Glenview\, 1948-D Lehigh Road\, Glenview\, IL\, United States
CATEGORIES:Community Event,Community Partner Event
ATTACH;FMTTYPE=image/jpeg:https://familyservicecenter.org/wp-content/uploads/2025/08/IMG_1927_Original-1.jpg
END:VEVENT
BEGIN:VEVENT
DTSTART;TZID=America/Chicago:20250917T190000
DTEND;TZID=America/Chicago:20250917T200000
DTSTAMP:20260423T221947
CREATED:20250908T155914Z
LAST-MODIFIED:20250908T191517Z
UID:10918-1758135600-1758139200@familyservicecenter.org
SUMMARY:[FAN] After the Spike: Population\, Progress and the Case for People Michael Geruso\, Ph.D.
DESCRIPTION:Wednesday\, September 17\, 2025\, 7:00 PM CT\, After the Spike: Population\, Progress\, and the Case for People\, a FAN webinar featuring Michael Geruso\, Ph.D.\, in conversation with Katy Milkman\, Ph.D. \nREGISTER: www.bit.ly/GerusoFANWebinar \nBONUS BOOK GIVEAWAY! FAN is giving away copies of After the Spike to randomly selected Zoom attendees. Details on the webinar registration page. \nMost people on Earth today live in a country where birth rates already are too low to stabilize the population: fewer than two children for every two adults. In After the Spike: Population\, Progress\, and the Case for People\, economists Dean Spears\, Ph.D.\, and Michael Geruso\, Ph.D.\, sound a wakeup call\, explaining why global depopulation is coming\, why it matters\, and what to do now. \nIt would be easy to think that fewer people would be better—better for the planet\, better for the people who remain. This book invites us all to think again. Despite what we may have been told\, depopulation is not the solution we urgently need for environmental challenges like climate change. Nor will it raise living standards by dividing what the world can offer across fewer of us. Spears and Geruso investigate what depopulation would mean for the climate\, for living standards\, for equity\, for progress\, for freedom\, for humanity’s general welfare. And what it would mean if\, instead\, people came together to share the work of caregiving and of building societies where parenting fits better with everything else that people aspire to. \nWith new evidence and sharp insights\, Spears and Geruso make a lively and compelling case for stabilizing the population—without sacrificing our dreams of a greener future or reverting to past gender inequities. They challenge us to see how depopulation threatens social equity and material progress\, and how welcoming it denies the inherent value of every human life. More than an assembly of the most important facts\, After the Spike asks what future we should want for our planet\, for our children\, and for one another. \nGeruso is an economic demographer\, public economist\, and associate professor of economics at the University of Texas at Austin. He served as a senior economist at the White House Council of Economic Advisers\, where he advised on issues of health and demography. He holds bachelor’s degrees in engineering\, political science\, and philosophy\, and earned his Ph.D. in economics from Princeton. \nGeruso will be in conversation with Katy Milkman\, Ph.D.\, the James G. Dinan Professor at The Wharton School of the University of Pennsylvania and the host of Charles Schwab’s popular behavioral economics podcast Choiceology. She is also the co-founder and co-director (with Angela Duckworth\, Ph.D.\, FAN ’12\, ’16) of the Behavior Change for Good Initiative at Penn. \nThis event is suitable for youth 12+. It will be recorded and available on FAN’s website and YouTube channel.
URL:https://familyservicecenter.org/calendar/after-the-spike-population-progress-and-the-case-for-people-michael-geruso-ph-d/
LOCATION:Zoom
CATEGORIES:Community Event,Community Partner Event,FAN Event
ATTACH;FMTTYPE=application/pdf:https://familyservicecenter.org/wp-content/uploads/2025/09/GerusoFlyerReleaseOpt.pdf
ORGANIZER;CN="FAN%3A Family Action Network":MAILTO:info@familyactionnetwork.net
END:VEVENT
BEGIN:VEVENT
DTSTART;TZID=America/Chicago:20250918T190000
DTEND;TZID=America/Chicago:20250918T200000
DTSTAMP:20260423T221947
CREATED:20250908T190540Z
LAST-MODIFIED:20250908T191454Z
UID:10921-1758222000-1758225600@familyservicecenter.org
SUMMARY:[FAN] Having It All: What Data Tells Us About Women's Lives and Getting the Most Out of Yours Corinne Low\, Ph.D. Associate Professor of Business Economics and Public Policy at the Wharton School of
DESCRIPTION:Thursday\, September 18\, 2025\, 7:00 PM CT\, Having It All: What Data Tells Us About Women’s Lives and Getting the Most Out of Yours\, a FAN webinar featuring Corinne Low\, Ph.D.\, in conversation with Jessica Calarco\, Ph.D. (FAN ’24) \nREGISTER: www.bit.ly/LowFANWebinar \nBONUS BOOK GIVEAWAY! FAN is giving away copies of Having It All to randomly selected Zoom attendees. Details on the webinar registration page. \nFor women in America today\, the promise of “having it all” is an ever-elusive carrot. Faced with unsustainable demands in every sphere\, we are certainly doing it all but at a steep cost. Research shows that biologically\, culturally\, and economically\, we are on uneven playing ground\, and one that drains us of our happiness. But that same data can empower us to make choices that will reclaim our time\, our energy―and even our joy. \nIn her new book Having It All: What Data Tells Us About Women’s Lives and Getting the Most Out of Yours\, Corinne Low\, Ph.D.\, an associate professor of business economics and public policy at the Wharton School of the University of Pennsylvania\, unpacks the hidden factors that influence women’s decision-making\, and how the unintended consequences of these choices alter the course of our lives. From when and whether to get married and (or) have children to what type of career to pursue\, whether to obtain an advanced degree to where to live\, Low explores questions such as 1) what if there is no optimal time to “have a family” but rather a slew of different considerations at different life stages?; 2) what if we approached decisions around marriage and partnership as rigorously as we would an employment opportunity; and 3) what if we valued our time in dollars and cents\, and structured our lives around choices that give us the greatest return on our investments? \nLow has spoken to and advised firms like Google\, IFM Investors\, Uber\, Activision Blizzard\, and Amazon Web Services\, in addition to teaching in Wharton’s Executive Education programs. Low has given talks to top academic institutions like Harvard University\, Stanford University\, and Oxford\, as well as to the New York Federal Reserve\, Brookings Institution\, and the US Department of Labor\, among others. \nLow will be in conversation with award-winning teacher Jessica Calarco\, Ph.D. (FAN ’24)\, a sociologist and professor at the University of Wisconsin-Madison and the author of the 2024 book Holding it Together: How Women Became America’s Social Safety Net. \nThis event is suitable for youth 12+. It will be recorded and available on FAN’s website and YouTube channel.
URL:https://familyservicecenter.org/calendar/having-it-all-what-data-tells-us-about-womens-lives-and-getting-the-most-out-of-yours-corinne-low-ph-d-associate-professor-of-business-economics-and-public-policy-at-the-wharton-school-of/
LOCATION:Zoom
CATEGORIES:Community Event,Community Partner Event,FAN Event
ATTACH;FMTTYPE=application/pdf:https://familyservicecenter.org/wp-content/uploads/2025/09/LowFlyerReleaseOpt.pdf
ORGANIZER;CN="FAN%3A Family Action Network":MAILTO:info@familyactionnetwork.net
END:VEVENT
BEGIN:VEVENT
DTSTART;TZID=America/Chicago:20250922T190000
DTEND;TZID=America/Chicago:20250922T203000
DTSTAMP:20260423T221947
CREATED:20250916T184015Z
LAST-MODIFIED:20250916T184227Z
UID:10935-1758567600-1758573000@familyservicecenter.org
SUMMARY:FSC & GPL: Back-to-School Without the Meltdowns: Study Strategies That Actually Work
DESCRIPTION:Join us! We hope to see you at the Glenview Public Library for our 90-minute workshop to ease the back-to-school transition for kids and the grownups who support them. We’ll have brain-based strategies to build focus\, reduce stress\, and boost confidence as you settle into back-to-school routines. \nWhen: Monday\, September 22\, 7:00pm – 8:30pm\nWhere: Glenview Public Library Community Room (1930 Glenview Road\, Glenview)\nRegister here: https://glenviewpl.bibliocommons.com/…/68b9a076cefea328… \nAll caregivers welcome! Supervised activities and snacks for kids will be provided. Register today! \n\n\nTopics to be covered:\n\n\n\nStudy tips that align with how brains actually learn\nSimple tools for emotional regulation and motivation\nHow to troubleshoot tricky transitions and make routines work\nWays to support neurodivergent learners\, including those with ADHD and anxiety\nParents and caregivers will leave with ready-to-use techniques\, a better understanding of how learning and regulation work together\, and resources to access additional support if needed.
URL:https://familyservicecenter.org/calendar/fsc-gpl-back-to-school-without-the-meltdowns-study-strategies-that-actually-work/
LOCATION:Glenview Public Library\, 1930 Glenview Road\, Glenview\, IL\, 60025
CATEGORIES:ADHD,Community Event,Community Partner Event,Parenting
ATTACH;FMTTYPE=application/pdf:https://familyservicecenter.org/wp-content/uploads/2025/09/AS_Fall25_Back-to-School-Without-the-Meltdowns_8.5x11-003.pdf
ORGANIZER;CN="Family Service Center":MAILTO:info@familyservicecenter.com
END:VEVENT
BEGIN:VEVENT
DTSTART;TZID=America/Chicago:20250925T190000
DTEND;TZID=America/Chicago:20250925T200000
DTSTAMP:20260423T221947
CREATED:20250911T155446Z
LAST-MODIFIED:20250911T155446Z
UID:10931-1758826800-1758830400@familyservicecenter.org
SUMMARY:[FAN] Mastery: Why Deeper Learning is Essential in an Age of Distraction Ulrik Juul Christensen\, MD
DESCRIPTION:Thursday\, September 25\, 2025\, 7:00 PM CT\, Mastery: Why Deeper Learning is Essential in an Age of Distraction\, a FAN webinar featuring Ulrik Juul Christensen\, MD\, and Tony Wagner\, Ed.D.\, in conversation with Fernande Raine\, Ph.D. \nREGISTER: Click here to register \nBONUS BOOK GIVEAWAY! FAN is giving away copies of Mastery to randomly selected Zoom attendees. Details on the webinar registration page. \nHow much information is forgotten almost immediately after it is taught? How many students graduate from high school unprepared for careers where lifelong learning is essential to succeed? These problems stem from an educational system that uses time spent in a classroom and the results of standardized\, multiple-choice tests as proxies for actual understanding. In their new book\, Mastery: Why Deeper Learning is Essential in an Age of Distraction\, educators Tony Wagner\, Ed.D.\, and Ulrik Juul Christensen\, MD\, call for a radical new system of learning\, where students progress individually when they demonstrate that they can use what they have learned—no matter how long it takes to get there. This is called mastery learning\, and it is the future of education. \nThis book shows how mastery learning is already being used in the United States and around the world\, from kindergarten to college and in the workplace. Through conversations with teachers\, students\, parents\, policymakers\, and employers\, Wagner and Christensen show how mastery improves motivation and prepares students for productive work\, an engaged civic life\, and personal growth and well-being. They also outline the challenges of adopting mastery learning and how to overcome them. Mastery is an urgent call to action to transform education for all. \nChristensen is a globally recognized authority in learning technology\, and a co-founder of Area9 Group\, a leader in personalized and adaptive learning. His current focus is on Area9 Lyceum\, which has integrated the group’s educational investments and technologies to develop the fourth-generation adaptive learning platform and to pioneer four-dimensional education. \nWagner currently serves as a Senior Research Fellow at the Learning Policy Institute. He was the founder and co-director\, for more than a decade\, of the Change Leadership Group at the Harvard Graduate School of Education. He is the author of eight books\, including the international bestseller The Global Achievement Gap. \nChristensen and Wagner will be in conversation with Fernande Raine\, Ph.D.\, a historian\, serial entrepreneur\, and Founder and Co-Lead of History Co:Lab. \nThis event is suitable for youth 12+. It will be recorded and available on FAN’s website and YouTube channel.
URL:https://familyservicecenter.org/calendar/fan-mastery-why-deeper-learning-is-essential-in-an-age-of-distraction-ulrik-juul-christensen-md/
LOCATION:Zoom
CATEGORIES:Community Event,Community Partner Event,FAN Event,Parenting
ATTACH;FMTTYPE=application/pdf:https://familyservicecenter.org/wp-content/uploads/2025/09/ChristensenWagnerFlyerReleaseOpt.pdf
ORGANIZER;CN="FAN%3A Family Action Network":MAILTO:info@familyactionnetwork.net
END:VEVENT
END:VCALENDAR