BEGIN:VCALENDAR
VERSION:2.0
PRODID:-//Family Service Center (FSC) - ECPv6.15.20//NONSGML v1.0//EN
CALSCALE:GREGORIAN
METHOD:PUBLISH
X-WR-CALNAME:Family Service Center (FSC)
X-ORIGINAL-URL:https://familyservicecenter.org
X-WR-CALDESC:Events for Family Service Center (FSC)
REFRESH-INTERVAL;VALUE=DURATION:PT1H
X-Robots-Tag:noindex
X-PUBLISHED-TTL:PT1H
BEGIN:VTIMEZONE
TZID:America/Chicago
BEGIN:DAYLIGHT
TZOFFSETFROM:-0600
TZOFFSETTO:-0500
TZNAME:CDT
DTSTART:20240310T080000
END:DAYLIGHT
BEGIN:STANDARD
TZOFFSETFROM:-0500
TZOFFSETTO:-0600
TZNAME:CST
DTSTART:20241103T070000
END:STANDARD
BEGIN:DAYLIGHT
TZOFFSETFROM:-0600
TZOFFSETTO:-0500
TZNAME:CDT
DTSTART:20250309T080000
END:DAYLIGHT
BEGIN:STANDARD
TZOFFSETFROM:-0500
TZOFFSETTO:-0600
TZNAME:CST
DTSTART:20251102T070000
END:STANDARD
BEGIN:DAYLIGHT
TZOFFSETFROM:-0600
TZOFFSETTO:-0500
TZNAME:CDT
DTSTART:20260308T080000
END:DAYLIGHT
BEGIN:STANDARD
TZOFFSETFROM:-0500
TZOFFSETTO:-0600
TZNAME:CST
DTSTART:20261101T070000
END:STANDARD
END:VTIMEZONE
BEGIN:VEVENT
DTSTART;TZID=America/Chicago:20250408T190000
DTEND;TZID=America/Chicago:20250408T200000
DTSTAMP:20260425T075944
CREATED:20250407T194828Z
LAST-MODIFIED:20250407T194828Z
UID:10753-1744138800-1744142400@familyservicecenter.org
SUMMARY:Untethered: Creating Connected Families\, Schools\, and Communities to Raise a Resilient Generation
DESCRIPTION:Tuesday\, April 8\, 2025\, 7:00 PM\, Untethered: Creating Connected Families\, Schools\, and Communities to Raise a Resilient Generation\, a FAN webinar featuring Doug Bolton\, Ph.D. in conversation with Lisa Damour\, Ph.D. (FAN ’19\, ’20\, ’21\, ’23). \nREGISTER: www.bit.ly/BoltonFANWebinar \nBONUS BOOK GIVEAWAY! FAN is giving away copies of Untethered to randomly selected Zoom attendees. Details on the webinar registration page. \nOver the past decade\, children’s mental health challenges have reached epidemic levels—stress\, anxiety\, childhood depression\, and suicide are at unprecedented high rates. Amid high-stakes pressure for kids to succeed\, parents and teachers have never needed a road map to healthy child development more urgently. And as clinical psychologist and educator Doug Bolton\, Ph.D. explains in Untethered: Creating Connected Families\, Schools\, and Communities to Raise a Resilient Generation\, his eye-opening and powerful new book\, underlying our modern-day stresses is an even more pervasive problem: We’re relying on practices that are not in line with what science tells us about how to truly motivate children and help them thrive. \nAs Bolton persuasively argues\, we need to step away from parenting and teaching based on controlling our children with incentives and punishments—they focus on short-term compliance at the cost of health development. Instead\, creating healthy and strongly bonded communities for our children\, both in our own families and in our schools\, is key to their emotional well-being\, and their success in life. Untethered offers tools to help us create these communities so our kids develop healthy attachments and learn emotional regulation\, helping them feel more connected\, less anxious\, more included\, less shamed\, and more securely grounded. The power of communities is not only that they enhance our wellness—they buffer us from the impact of trauma and can be a guiding force in helping kids develop resilience. \nBolton will be in conversation with Lisa Damour\, Ph.D. (FAN ’19\, ’20\, ’21\, ’23)\, the author of three New York Times best sellers: Untangled\, Under Pressure\, and The Emotional Lives of Teenagers\, which have been translated into twenty-three languages. She co-hosts the Ask Lisa podcast\, works in collaboration with UNICEF\, and is recognized as a thought leader by the American Psychological Association. Damour authored the monthly Adolescence column for The New York Times\, is a regular contributor to CBS News\, and created Untangling 10to20\, a digital library of premium content to support teens and those who care for them. \nThis event is suitable for youth 12+. It will be recorded and available on FAN’s website and YouTube channel.
URL:https://familyservicecenter.org/calendar/untethered-creating-connected-families-schools-and-communities-to-raise-a-resilient-generation/
LOCATION:Zoom
CATEGORIES:Community Event,Community Partner Event,FAN Event,Parenting
ATTACH;FMTTYPE=application/pdf:https://familyservicecenter.org/wp-content/uploads/2025/04/BoltonFlyerReleaseOpt.pdf
ORGANIZER;CN="FAN%3A Family Action Network":MAILTO:info@familyactionnetwork.net
END:VEVENT
BEGIN:VEVENT
DTSTART;TZID=America/Chicago:20250409T190000
DTEND;TZID=America/Chicago:20250409T200000
DTSTAMP:20260425T075944
CREATED:20250408T214317Z
LAST-MODIFIED:20250408T214317Z
UID:10756-1744225200-1744228800@familyservicecenter.org
SUMMARY:Dear Writer: Pep Talks & Practical Advice for the Creative Life
DESCRIPTION:Wednesday\, April 9\, 2025\, 7:00 PM\, Dear Writer: Pep Talks & Practical Advice for the Creative Life\, a FAN webinar featuring Maggie Smith (FAN ’20\, ’23) in conversation with Glory Edim (FAN ’24). \nREGISTER: www.bit.ly/Smith25FANWebinar \nBONUS BOOK GIVEAWAY! FAN is giving away copies of Dear Writer to randomly selected Zoom attendees. Details on the webinar registration page. \nNew York Times bestselling author and poet Maggie Smith (FAN ’20\, ’23) believes creativity is our birthright as human beings. Yes\, all of us—no matter our age or profession. Creativity improves our mental health\, our adaptability\, and our communication skills. In Smith’s new book\, Dear Writer: Pep Talks & Practical Advice for the Creative Life\, she offers\, “anything that applies to writing also applies to life. Problem-solving is a creative act. Conversations are creative. Parenting is creative. Falling in love\, leaving your job\, changing your mind—all creative acts. Creativity isn’t just about making art. Making your life is the ultimate creative act.” \nDrawing lessons from her twenty years of teaching experience and her bestselling\, craft-focused Substack newsletter\, For Dear Life\, Smith breaks down creativity into ten essential elements: attention\, wonder\, vision\, play\, surprise\, vulnerability\, restlessness\, tenacity\, connection\, and hope. Each element is explored through short\, inspiring essays\, followed by generative writing prompts that readers can use to kickstart their own creativity. For example\, the section on tenacity tackles how to turn off one’s inner critic\, take rejection in stride\, and stay inspired through creative blocks. Dear Writer provides tools that artists and readers of all experience levels can apply to their own creative practices and carry with them across genres and into all areas of life. \nSmith is the award-winning author of You Could Make This Place Beautiful\, Keep Moving\, Goldenrod\, Good Bones\, and other books. She has been widely published\, appearing in The New Yorker\, The Paris Review\, The Nation\, the New York Times\, the Atlantic\, The Best American Poetry\, and more. \nSmith will be in conversation with Glory Edim (FAN ’24)\, is an award-winning literary tastemaker\, entrepreneur\, and advocate for diverse voices in literature. Edim is the founder of Well-Read Black Girl\, an online platform and book club dedicated to celebrating the works of Black women authors and creating a supportive online community for readers\, and author of Gather Me: A Memoir in Praise of the Books That Saved Me. \nThis event is suitable for youth 12+. It will be recorded and available on FAN’s website and YouTube channel.
URL:https://familyservicecenter.org/calendar/dear-writer-pep-talks-practical-advice-for-the-creative-life/
LOCATION:Zoom
CATEGORIES:Community Event,Community Partner Event,FAN Event,Parenting
ATTACH;FMTTYPE=application/pdf:https://familyservicecenter.org/wp-content/uploads/2025/04/MSmith2025FlyerReleaseOpt.pdf
ORGANIZER;CN="FAN%3A Family Action Network":MAILTO:info@familyactionnetwork.net
END:VEVENT
BEGIN:VEVENT
DTSTART;TZID=America/Chicago:20250416T120000
DTEND;TZID=America/Chicago:20250416T130000
DTSTAMP:20260425T075944
CREATED:20250414T160123Z
LAST-MODIFIED:20250414T160123Z
UID:10766-1744804800-1744808400@familyservicecenter.org
SUMMARY:What We Value: The Neuroscience of Choice & Change Emily Falk\, Ph.D.
DESCRIPTION:Wednesday\, April 16\, 2025\, 12:00 PM CT\, What We Value: The Neuroscience of Choice & Change\, a FAN webinar featuring Emily Falk\, Ph.D. in conversation with Ethan Kross\, Ph.D. (FAN ’25). \nREGISTER: www.bit.ly/FalkFANWebinar \nBONUS BOOK GIVEAWAY! FAN is giving away copies of What We Value to randomly selected Zoom attendees. Details on the webinar registration page. \nWith so many competing priorities pulling us in different directions every day―family\, friends\, work\, our health―it can feel difficult to make decisions that are aligned with what we care about most. Especially in the moment\, we often default to the immediate demand\, the path of least resistance\, the worn old habit we wanted to change. In What We Value: The Neuroscience of Choice & Change\, pioneering scholar Emily Falk\, Ph.D. reveals how we can transform our relationship with the daily decisions that define our lives―opening pathways to make more purposeful\, fulfilling choices; more successfully change our behavior; and influence others to see differently―by thinking like neuroscientists. \nDrawing on her own award-winning research\, Falk introduces readers to a new paradigm for understanding why we\, and those around us\, do what we do. This is the value calculation: the often-subconscious mechanism by which the brain computes our everyday choices. Falk shows that we can learn to work more strategically with the value calculation―whether we want to embrace new activities and behaviors\, connect more meaningfully with others\, or become more effective leaders in our organizations and communities. Falk demonstrates how we can change what we think just by changing what we think about; get less defensive by connecting with our core values; and seed innovation by seeking out different perspectives. \nFalk is an award-winning Professor of Communication\, Psychology\, Marketing\, and Operations\, Informatics\, and Decisions (OID) at the University of Pennsylvania; Vice Dean of the Annenberg School for Communication; Director of the Communication Neuroscience Lab; and Director of the Climate Communication Division of the Annenberg Public Policy Center. She is an expert in the science of behavior change. Her research uses tools from psychology\, neuroscience\, and communication to examine what makes messages persuasive\, why and how ideas spread\, and what makes people effective communicators. \nFalk will be in conversation with Ethan Kross\, Ph.D. (FAN ’25)\, Professor\, Management & Organizations\, Ross School of Business\, and Director of the Emotion and Self Control Lab\, University of Michigan. He is the author of the international bestseller Chatter and the new bestselling book Shift: Managing Your Emotions — So They Don’t Manage You. \nThis event is suitable for youth 12+. It will be recorded and available on FAN’s website and YouTube channel.
URL:https://familyservicecenter.org/calendar/what-we-value-the-neuroscience-of-choice-change-emily-falk-ph-d/
LOCATION:Zoom
CATEGORIES:Community Event,Community Partner Event,FAN Event,Parenting
ATTACH;FMTTYPE=application/pdf:https://familyservicecenter.org/wp-content/uploads/2025/04/FalkFlyerReleaseOpt.pdf
ORGANIZER;CN="FAN%3A Family Action Network":MAILTO:info@familyactionnetwork.net
END:VEVENT
END:VCALENDAR