BEGIN:VCALENDAR
VERSION:2.0
PRODID:-//Family Service Center (FSC) - ECPv6.15.20//NONSGML v1.0//EN
CALSCALE:GREGORIAN
METHOD:PUBLISH
X-WR-CALNAME:Family Service Center (FSC)
X-ORIGINAL-URL:https://familyservicecenter.org
X-WR-CALDESC:Events for Family Service Center (FSC)
REFRESH-INTERVAL;VALUE=DURATION:PT1H
X-Robots-Tag:noindex
X-PUBLISHED-TTL:PT1H
BEGIN:VTIMEZONE
TZID:America/Chicago
BEGIN:DAYLIGHT
TZOFFSETFROM:-0600
TZOFFSETTO:-0500
TZNAME:CDT
DTSTART:20250309T080000
END:DAYLIGHT
BEGIN:STANDARD
TZOFFSETFROM:-0500
TZOFFSETTO:-0600
TZNAME:CST
DTSTART:20251102T070000
END:STANDARD
BEGIN:DAYLIGHT
TZOFFSETFROM:-0600
TZOFFSETTO:-0500
TZNAME:CDT
DTSTART:20260308T080000
END:DAYLIGHT
BEGIN:STANDARD
TZOFFSETFROM:-0500
TZOFFSETTO:-0600
TZNAME:CST
DTSTART:20261101T070000
END:STANDARD
BEGIN:DAYLIGHT
TZOFFSETFROM:-0600
TZOFFSETTO:-0500
TZNAME:CDT
DTSTART:20270314T080000
END:DAYLIGHT
BEGIN:STANDARD
TZOFFSETFROM:-0500
TZOFFSETTO:-0600
TZNAME:CST
DTSTART:20271107T070000
END:STANDARD
END:VTIMEZONE
BEGIN:VEVENT
DTSTART;TZID=America/Chicago:20260226T190000
DTEND;TZID=America/Chicago:20260226T210000
DTSTAMP:20260423T114012
CREATED:20260108T163443Z
LAST-MODIFIED:20260202T195130Z
UID:11143-1772132400-1772139600@familyservicecenter.org
SUMMARY:FSC's 21st Century Trivia | 3rd Annual Trivia Night
DESCRIPTION:Grab your team of six and join us for a fun evening of trivia. Register your team today.
URL:https://familyservicecenter.org/calendar/fscs-21st-century-trivia-3rd-annual-trivia-night/
LOCATION:Max & Benny’s\, 461 Waukegan Rd\, Northbrook\, IL\, 60062\, United States
CATEGORIES:FSC Fundraiser
ATTACH;FMTTYPE=image/png:https://familyservicecenter.org/wp-content/uploads/2026/01/21stcenturytrivia2026.png
ORGANIZER;CN="Family Service Center":MAILTO:info@familyservicecenter.com
END:VEVENT
END:VCALENDAR