BEGIN:VCALENDAR
VERSION:2.0
PRODID:-//Family Service Center (FSC) - ECPv6.15.20//NONSGML v1.0//EN
CALSCALE:GREGORIAN
METHOD:PUBLISH
X-ORIGINAL-URL:https://familyservicecenter.org
X-WR-CALDESC:Events for Family Service Center (FSC)
REFRESH-INTERVAL;VALUE=DURATION:PT1H
X-Robots-Tag:noindex
X-PUBLISHED-TTL:PT1H
BEGIN:VTIMEZONE
TZID:America/Chicago
BEGIN:DAYLIGHT
TZOFFSETFROM:-0600
TZOFFSETTO:-0500
TZNAME:CDT
DTSTART:20230312T080000
END:DAYLIGHT
BEGIN:STANDARD
TZOFFSETFROM:-0500
TZOFFSETTO:-0600
TZNAME:CST
DTSTART:20231105T070000
END:STANDARD
BEGIN:DAYLIGHT
TZOFFSETFROM:-0600
TZOFFSETTO:-0500
TZNAME:CDT
DTSTART:20240310T080000
END:DAYLIGHT
BEGIN:STANDARD
TZOFFSETFROM:-0500
TZOFFSETTO:-0600
TZNAME:CST
DTSTART:20241103T070000
END:STANDARD
BEGIN:DAYLIGHT
TZOFFSETFROM:-0600
TZOFFSETTO:-0500
TZNAME:CDT
DTSTART:20250309T080000
END:DAYLIGHT
BEGIN:STANDARD
TZOFFSETFROM:-0500
TZOFFSETTO:-0600
TZNAME:CST
DTSTART:20251102T070000
END:STANDARD
END:VTIMEZONE
BEGIN:VEVENT
DTSTART;TZID=America/Chicago:20240914T180000
DTEND;TZID=America/Chicago:20240914T230000
DTSTAMP:20260425T210836
CREATED:20240813T161044Z
LAST-MODIFIED:20240813T162337Z
UID:10005-1726336800-1726354800@familyservicecenter.org
SUMMARY:[MLB GLENVIEW] Rocktember Fest 2024
DESCRIPTION:Support FSC along with other local worthy causes while having fun with the men of Making Lives Better of Glenview. \n$80 per ticket…but check out the Pre-sale at $60 per ticket through August 31st!\nTickets Purchased: https://mlbglenview.org/products/rocktemberfest-2024
URL:https://familyservicecenter.org/calendar/mlb-glenview-rocktember-fest-2024/
LOCATION:MLB Glenview\, 1948-D Lehigh Road\, Glenview\, IL\, United States
CATEGORIES:Community Event,Community Partner Event,FSC Fundraiser
ATTACH;FMTTYPE=image/png:https://familyservicecenter.org/wp-content/uploads/2024/08/MLBrocktember24.png
END:VEVENT
END:VCALENDAR