BEGIN:VCALENDAR
VERSION:2.0
PRODID:-//Family Service Center (FSC) - ECPv6.15.20//NONSGML v1.0//EN
CALSCALE:GREGORIAN
METHOD:PUBLISH
X-WR-CALNAME:Family Service Center (FSC)
X-ORIGINAL-URL:https://familyservicecenter.org
X-WR-CALDESC:Events for Family Service Center (FSC)
REFRESH-INTERVAL;VALUE=DURATION:PT1H
X-Robots-Tag:noindex
X-PUBLISHED-TTL:PT1H
BEGIN:VTIMEZONE
TZID:America/Chicago
BEGIN:DAYLIGHT
TZOFFSETFROM:-0600
TZOFFSETTO:-0500
TZNAME:CDT
DTSTART:20230312T080000
END:DAYLIGHT
BEGIN:STANDARD
TZOFFSETFROM:-0500
TZOFFSETTO:-0600
TZNAME:CST
DTSTART:20231105T070000
END:STANDARD
BEGIN:DAYLIGHT
TZOFFSETFROM:-0600
TZOFFSETTO:-0500
TZNAME:CDT
DTSTART:20240310T080000
END:DAYLIGHT
BEGIN:STANDARD
TZOFFSETFROM:-0500
TZOFFSETTO:-0600
TZNAME:CST
DTSTART:20241103T070000
END:STANDARD
BEGIN:DAYLIGHT
TZOFFSETFROM:-0600
TZOFFSETTO:-0500
TZNAME:CDT
DTSTART:20250309T080000
END:DAYLIGHT
BEGIN:STANDARD
TZOFFSETFROM:-0500
TZOFFSETTO:-0600
TZNAME:CST
DTSTART:20251102T070000
END:STANDARD
END:VTIMEZONE
BEGIN:VEVENT
DTSTART;TZID=America/Chicago:20240923T180000
DTEND;TZID=America/Chicago:20240923T203000
DTSTAMP:20260425T175005
CREATED:20240916T175650Z
LAST-MODIFIED:20240916T180746Z
UID:10134-1727114400-1727123400@familyservicecenter.org
SUMMARY:[FSC] Let's Talk* about Mental Health    *in Mongolian
DESCRIPTION:“Let’s talk* about Mental Health” *in Mongolian\n\n\nYes\, we are strong/resilient. But we are also human. Help normalize conversations about mental health. No one need suffer alone.\n\n\n\n\nJoin FSC Clinician Zola Mandakh to discuss:\n\n\n-Why is it hard for so many Mongolian Americans to talk about mental health?\n-What are the barriers to accessing care?\n\n\n\nWhen: September 23\, 6pm\nWhere: Zoom Webinar (https://us02web.zoom.us/…/tZ0pceuvrTsvE9HY0gWBsPUqfxT59… or scan QR code)\n\n\nRegister now!\n\n 
URL:https://familyservicecenter.org/calendar/fsc-lets-talk-about-mental-health-in-mongolian/
LOCATION:Zoom
CATEGORIES:Community Event,Mongolian Language Event
ATTACH;FMTTYPE=application/pdf:https://familyservicecenter.org/wp-content/uploads/2024/09/9.23.24-Сэтгэл-зүйн-эрүүл-мэндийн-тухай-ярилъя.pdf
ORGANIZER;CN="Family Service Center":MAILTO:info@familyservicecenter.com
END:VEVENT
END:VCALENDAR