BEGIN:VCALENDAR
VERSION:2.0
PRODID:-//Family Service Center (FSC) - ECPv6.15.20//NONSGML v1.0//EN
CALSCALE:GREGORIAN
METHOD:PUBLISH
X-ORIGINAL-URL:https://familyservicecenter.org
X-WR-CALDESC:Events for Family Service Center (FSC)
REFRESH-INTERVAL;VALUE=DURATION:PT1H
X-Robots-Tag:noindex
X-PUBLISHED-TTL:PT1H
BEGIN:VTIMEZONE
TZID:America/Chicago
BEGIN:DAYLIGHT
TZOFFSETFROM:-0600
TZOFFSETTO:-0500
TZNAME:CDT
DTSTART:20250309T080000
END:DAYLIGHT
BEGIN:STANDARD
TZOFFSETFROM:-0500
TZOFFSETTO:-0600
TZNAME:CST
DTSTART:20251102T070000
END:STANDARD
BEGIN:DAYLIGHT
TZOFFSETFROM:-0600
TZOFFSETTO:-0500
TZNAME:CDT
DTSTART:20260308T080000
END:DAYLIGHT
BEGIN:STANDARD
TZOFFSETFROM:-0500
TZOFFSETTO:-0600
TZNAME:CST
DTSTART:20261101T070000
END:STANDARD
BEGIN:DAYLIGHT
TZOFFSETFROM:-0600
TZOFFSETTO:-0500
TZNAME:CDT
DTSTART:20270314T080000
END:DAYLIGHT
BEGIN:STANDARD
TZOFFSETFROM:-0500
TZOFFSETTO:-0600
TZNAME:CST
DTSTART:20271107T070000
END:STANDARD
END:VTIMEZONE
BEGIN:VEVENT
DTSTART;TZID=America/Chicago:20260302T190000
DTEND;TZID=America/Chicago:20260302T200000
DTSTAMP:20260423T055540
CREATED:20260225T191352Z
LAST-MODIFIED:20260225T191352Z
UID:11235-1772478000-1772481600@familyservicecenter.org
SUMMARY:[FAN] How to Feel Loved: The Five Mindsets That Get You More of What Matters Most
DESCRIPTION:Monday\, March 2\, 2026 | 7:00 PM CT How to Feel Loved: The Five Mindsets That Get You More of What Matters Most. A FAN webinar featuring Sonja Lyubomirsky\, Ph.D.\, in conversation with Daniel Pink (FAN ’18\, ’22). \nREGISTRATION: www.bit.ly/SLFANWebinar \nBonus Book Giveaway: FAN is giving away copies of How to Feel Loved to randomly selected Zoom attendees. Details on the webinar registration page. \nWhy\, in an age of constant connection\, do so many of us still feel lonely\, anxious\, or unseen? In their new book\, How to Feel Loved: The Five Mindsets Get You More of What Matters Most\, Sonja Lyubomirsky\, Ph.D. — the world’s preeminent expert on happiness — and Harry Reis\, Ph.D.\, one of the world’s leading authorities on relationships and connection\, reveal the simple yet powerful shifts that can transform how we experience our closest relationships. \nThe authors argue that the problem isn’t the number of friends we have or how busy our social calendars are — it’s that too often\, our interactions don’t leave us feeling genuinely loved. We may worry that if people really knew us — our flaws alongside our strengths — their affection would disappear. Or we may quietly conclude that we’re simply not lovable enough. \nHow to Feel Loved offers a liberating alternative. You don’t need to reinvent yourself\, impress others\, or bend over backward to earn love. Instead\, the key lies in shifting how you approach your next conversation. The authors present five practical mindsets that can fundamentally change the way you relate to others — habits that\, with practice\, will help you create relationships where you feel deeply known\, valued\, and loved. \nLyubomirsky is Distinguished Professor of Psychology at the University of California\, Riverside\, and the author of the bestselling The How of Happiness and The Myths of Happiness (published in 39 countries). She has been featured across a wide range of media\, including The New York Times\, The Washington Post\, and The Atlantic\, as well as the Today show\, NPR\, and CNN. \nLyubomirsky will be in conversation with Daniel Pink (FAN ’18\, ’22)\, the author of seven bestselling nonfiction books ranging from human motivation and the science of timing to a graphic novel career guide. His deeply researched works have been translated into 46 languages and have sold more than five million copies worldwide. \nThis event is suitable for youth 12+. It will be recorded and available on FAN’s website and YouTube channel. \nSponsored by FAN\, in partnership with The Alliance for Early Childhood\, The Avery Coonley School\, Avoca D37\, Beacon Academy\, Bennett Day School\, Bernard Zell Anshe Emet Day School\, Brickton Montessori School\, British International School of Chicago\, Catherine Cook School\, Compass Health Center\, Countryside Day School\, Evanston Township HS D202\, The Family Institute at Northwestern University\, Family Service Center\, Foundation 65\, The Frances Xavier Warde School\, Francis W. Parker School\, Glencoe D35\, Glenview Public Library\, Gorton Center\, Hyde Park Day School\, Illinois Student Assistance Commission\, Kenilworth D38\, Lake Bluff D65\, Lake Forest Community High School D115\, Latin School of Chicago\, Leo Catholic High School\, Libertyville D70\, Lycée Français de Chicago\, Magnetar Capital\, North Shore Country Day\, Northwestern University Office of Neighborhood and Community Relations\, Northwestern University School of Education and Social Policy\, Pope John XXIII School\, Regina Dominican High School\, Resurrection College Prep High School\, Rogers Park Montessori School\, Roycemore School\, Santa Clara University School of Law\, Science & Arts Academy\, The Sonia Shankman Orthogenic School\, Stevenson High School D125\, Township High School D113\, Township High School D214\, TrueNorth Educational Cooperative #804\, Wilmette Public Library\, Woodlands Academy\, Wolcott College Prep\, Youth & Opportunity United.
URL:https://familyservicecenter.org/calendar/fan-how-to-feel-loved-the-five-mindsets-that-get-you-more-of-what-matters-most/
LOCATION:Zoom
CATEGORIES:Community Event,Community Partner Event,FAN Event,Parenting
ATTACH;FMTTYPE=image/jpeg:https://familyservicecenter.org/wp-content/uploads/2026/02/LyubomirskyFlyer.jpg
ORGANIZER;CN="FAN%3A Family Action Network":MAILTO:info@familyactionnetwork.net
END:VEVENT
BEGIN:VEVENT
DTSTART;TZID=America/Chicago:20260310T190000
DTEND;TZID=America/Chicago:20260310T200000
DTSTAMP:20260423T055540
CREATED:20260225T193110Z
LAST-MODIFIED:20260225T193110Z
UID:11239-1773169200-1773172800@familyservicecenter.org
SUMMARY:[FAN] The First Eight: A Personal History of the Pioneering Black Congressmen Who Shaped a Nation
DESCRIPTION:The First Eight: A Personal History of the Pioneering Black Congressmen Who Shaped a Nation A FAN in-person featuring Rep. James E. Clyburn\, in conversation with Natalie Y. Moore. Evanston Township High School Auditorium\, 1600 Dodge Ave.\, Door 6\, Evanston\, IL 60201 \nNo registration required. \nBonus Book Giveaway: FAN is giving away copies of The First Eight to attendees\, while supplies last. \nToday\, South Carolina Congressman James E. Clyburn (SC-06) is renowned as a Democratic kingmaker and one of the most distinguished Black political leaders in American history. But behind him stand eight other remarkable men: the first Black politicians elected to Congress from his home state\, who blazed the path for his own ascent. Since arriving in Congress in the early nineties\, Congressman Clyburn has been guided by their wisdom and example — and sobered by their struggles\, particularly against the enduring demon of American racism. \nSouth Carolina’s first eight Black congressmen all rose to office in the wake of the Civil War and emancipation — only to see their gains extinguished as the dark veil of Jim Crow fell across the South. It would take nearly a century before the ninth Black representative from the state\, Clyburn himself\, was elected. \nIn The First Eight: A Personal History of the Pioneering Black Congressmen Who Shaped a Nation\, Rep. Clyburn brings these men’s stories — and their message of liberty — to the nation they served. Among them: Joseph Rainey\, born enslaved in 1832\, who became the first Black politician elected to the U.S. House of Representatives in American history; Robert Smalls\, celebrated for his extraordinary Civil War heroism\, when he commandeered a Confederate vessel and delivered it — and his freedom — to the Union; and Richard Cain\, editor of a widely read newspaper for Black South Carolinians and a figure deeply associated with Emanuel AME Church\, one of the oldest and most distinguished Black churches in America\, and where nine Black congregants were murdered in a racist mass shooting in 2015. \nThrough the trials\, tribulations\, triumphs\, and setbacks all nine men faced\, Rep. Clyburn illuminates a whole new way of understanding the arc from the Civil War to the present day. \nThe First Eight is a singular blend of history and memoir — at once a monument to eight trailblazing Americans\, a meditation on progress\, and a clear-eyed reckoning with how far we have yet to go in our nation’s ongoing struggle for true democracy. \nRep. Clyburn will be in conversation with Natalie Y. Moore\, an award-winning journalist and author and senior lecturer and director of audio programming at the Medill School of Journalism at Northwestern University. \nThis event is suitable for youth ages 12 and up. It will be recorded but not live streamed and available on FAN’s website and YouTube channel. \nSponsored by FAN\, in partnership with The Avery Coonley School\, Avoca D37\, Baker Demonstration School\, Beacon Academy\, Bennett Day School\, Bernard Zell Anshe Emet Day School\, Brickton Montessori School\, British International School of Chicago\, Catherine Cook School\, Compass Health Center\, Countryside Day School\, Evanston Scholars\, Evanston Township HS D202\, Family Service Center\, Foundation 65\, The Frances Xavier Warde School\, Francis W. Parker School\, Glenview Public Library\, Gorton Center\, Hyde Park Day School\, Illinois Student Assistance Commission\, Kenilworth D38\, Lake Bluff D65\, Latin School of Chicago\, Leo Catholic High School\, Libertyville D70\, Lycée Français de Chicago\, Near North Montessori School\, North Shore Country Day\, Northwestern University Office of Neighborhood and Community Relations\, Northwestern University School of Education and Social Policy\, Pope John XXIII School\, Regina Dominican High School\, Resurrection College Prep High School\, Rogers Park Montessori School\, Roycemore School\, Santa Clara University School of Law\, Science & Arts Academy\, The Sonia Shankman Orthogenic School\, Stevenson High School D125\, Township High School D113\, Township High School D214\, TrueNorth Educational Cooperative #804\, Wilmette Public Library\, Woodlands Academy\, Youth & Opportunity United.
URL:https://familyservicecenter.org/calendar/fan-the-first-eight-a-personal-history-of-the-pioneering-black-congressmen-who-shaped-a-nation/
LOCATION:Evanston Township High School Auditorium\, 1600 Dodge Ave\, Evanston\, IL\, 60201
CATEGORIES:Community Event,Community Partner Event,FAN Event,Parenting
ATTACH;FMTTYPE=image/jpeg:https://familyservicecenter.org/wp-content/uploads/2026/02/ClyburnFlyer-scaled.jpg
ORGANIZER;CN="FAN%3A Family Action Network":MAILTO:info@familyactionnetwork.net
END:VEVENT
BEGIN:VEVENT
DTSTART;TZID=America/Chicago:20260313T120000
DTEND;TZID=America/Chicago:20260313T130000
DTSTAMP:20260423T055540
CREATED:20260225T194245Z
LAST-MODIFIED:20260225T194245Z
UID:11243-1773403200-1773406800@familyservicecenter.org
SUMMARY:[FAN] Dopamine Kids: A Science-Based Plan to Rewire Your Child's Brain and Take Back Your Family in the Age of Screens and Ultraprocessed Food
DESCRIPTION:Friday\, March 13\, 2026 | 12:00 PM CT (Note earlier-than-typical start time) Dopamine Kids: A Science-Based Plan to Rewire Your Child’s Brain and Take Back Your Family in the Age of Screens and Ultraprocessed Foods A FAN webinar featuring Michaeleen Doucleff\, Ph.D.\, in conversation with Heidi Stevens. \nREGISTRATION: www.bit.ly/MDoucleffFANWebinar \nBonus Book Giveaway: FAN is giving away copies of Dopamine Kids to randomly selected Zoom attendees. Details on the webinar registration page. \nNearly everything you’ve heard about dopamine is wrong. It’s not the molecule of happiness — it doesn’t give us pleasure; it gives us motivation. Today\, unprecedented “dopamine surges” pull us toward technology and ultraprocessed foods like magnets\, many times a day\, and neuroscientists have now begun to understand how these surges alter our choices\, habits\, and moods — driving adults and kids toward activities that bring no real enjoyment and leave us feeling sad\, lonely\, anxious\, and depressed. \nWhen Michaeleen Doucleff\, Ph.D. (FAN ’21)\, set out to address her own family’s screen time and dependence on processed foods\, she discovered that study after study refuted nearly everything the media claims about dopamine. She took that new neuroscience and merged it with practical experience to shift the power dynamic back to families — so that instead of devices and foods controlling us\, we control them. The result is Dopamine Kids: A Science-Based Plan to Rewire Your Child’s Brain and Take Back Your Family in the Age of Screens and Ultraprocessed Foods\, a five-step operating manual for habit remodeling that helps parents create boundaries\, replace screen time with equally enticing alternatives\, remove triggers\, and celebrate new choices — ultimately weakening the neurological pull of devices and making dopamine work in a family’s favor. \nDoucleff’s research culminates in a four-week plan to build screen-free sanctuaries that protect conversation\, focus\, sleep\, and adventure. Where Jonathan Haidt’s The Anxious Generation sounded the alarm about screens\, Dopamine Kids is the handbook for solving the problem — teaching kids a healthy relationship with technology and food while meeting their genuine biological and emotional needs. Doucleff has a chemistry doctorate from UC Berkeley\, a postdoctoral fellowship at the NIH\, more than a decade covering children’s health for NPR’s science desk\, a Peabody Award\, and the New York Times bestseller Hunt\, Gather\, Parent. \nDoucleff will be in conversation with Heidi Stevens\, Director of External Affairs for the University of Chicago’s TMW Center for Early Learning + Public Health. She writes a weekly nationally syndicated column\, “Balancing Act.” Stevens has been a FAN board member since 2021. \nThis event is suitable for youth 12+. It will be recorded and available on FAN’s website and YouTube channel. \nSponsored by FAN\, in partnership with The Alliance for Early Childhood\, The Avery Coonley School\, Avoca D37\, Beacon Academy\, Bennett Day School\, Bernard Zell Anshe Emet Day School\, Brickton Montessori School\, British International School of Chicago\, Catherine Cook School\, Compass Health Center\, Countryside Day School\, Evanston Township HS D202\, The Family Institute at Northwestern University\, Family Service Center\, Foundation 65\, The Frances Xavier Warde School\, Francis W. Parker School\, Glencoe D35\, Glenview Public Library\, Gorton Center\, Hyde Park Day School\, Illinois Student Assistance Commission\, Kenilworth D38\, Lake Bluff D65\, Lake Forest Community High School D115\, Latin School of Chicago\, Leo Catholic High School\, Libertyville D70\, Lycée Français de Chicago\, Magnetar Capital\, North Shore Country Day\, Northwestern University Office of Neighborhood and Community Relations\, Northwestern University School of Education and Social Policy\, Pope John XXIII School\, Regina Dominican High School\, Resurrection College Prep High School\, Rogers Park Montessori School\, Roycemore School\, Santa Clara University School of Law\, Science & Arts Academy\, The Sonia Shankman Orthogenic School\, Stevenson High School D125\, Township High School D113\, Township High School D214\, TrueNorth Educational Cooperative #804\, Wilmette Public Library\, Woodlands Academy\, Wolcott College Prep\, Youth & Opportunity United.
URL:https://familyservicecenter.org/calendar/fan-dopamine-kids-a-science-based-plan-to-rewire-your-childs-brain-and-take-back-your-family-in-the-age-of-screens-and-ultraprocessed-food/
LOCATION:Zoom
CATEGORIES:Community Event,Community Partner Event,FAN Event,Parenting
ATTACH;FMTTYPE=image/jpeg:https://familyservicecenter.org/wp-content/uploads/2026/02/Doucleff26Flyer-scaled.jpg
ORGANIZER;CN="FAN%3A Family Action Network":MAILTO:info@familyactionnetwork.net
END:VEVENT
BEGIN:VEVENT
DTSTART;TZID=America/Chicago:20260317T190000
DTEND;TZID=America/Chicago:20260317T200000
DTSTAMP:20260423T055540
CREATED:20260303T215932Z
LAST-MODIFIED:20260303T215932Z
UID:11301-1773774000-1773777600@familyservicecenter.org
SUMMARY:[FAN] The Creativity Choice: The Science of Making Decisions to Turn Ideas into Action
DESCRIPTION:Tuesday\, March 17\, 2026 | 7:00 PM CT \nThe Creativity Choice: The Science of Making Decisions to Turn Ideas into Action\nA FAN webinar featuring Zorana Ivcevic Pringle\, Ph.D.\, in conversation with Marc Brackett\, Ph.D. (FAN ’19\, ’25). \nREGISTRATION: www.bit.ly/PringleFANWebinar \nAnyone who has ever participated in a brainstorming session knows that most of us do not lack ideas. Yet many people never breathe life into them. To turn inspiration into real achievement\, you must decide to act—and then decide to act again and again\, despite obstacles\, until your thoughts take shape and come to life. This is what psychologist Zorana Ivcevic Pringle\, Ph.D.\, calls the creativity choice. \nIn her new book The Creativity Choice: The Science of Making Decisions to Turn Ideas into Action\, Pringle—a senior research scientist at Yale University’s Center for Emotional Intelligence—draws on twenty years of research to dispel one of our most stubborn myths: that creativity is an innate gift reserved for the Albert Einsteins\, Steve Jobses\, and Coco Chanels of the world. In fact\, creativity is a decision. And it is one that anyone can learn to make. \nWith stories ranging from an entrepreneur who built a national nonprofit\, to a YouTuber who turned a hobby into a professional career\, to a business leader who established a company culture of innovation\, Pringle illuminates\nhow people make creative ideas happen. She shows what it takes to get started\, the psychological and emotional tools needed to navigate the creative process\, and the social conditions that allow creativity to flourish—from the casual relationships that spark unexpected ideas\, to the close bonds that sustain risk-taking and perseverance. \nAmong her key insights: problem finding matters more than problem solving; emotions are not obstacles to creativity but valuable information that can be strategically harnessed; and the difference between a one-hit wonder and a consistent innovator often comes down to the quality of one’s social network. Pringle also explores why people who genuinely want to be creative so often avoid it\, and how accepting the anxiety that accompanies originality is itself the first creative act. \nPringle studies the role of emotion\, emotional intelligence\, and self-regulation in creativity and well-being\, as well as how to use the arts (and art-related institutions) to promote emotion and creativity skills. She will be in conversation with Marc Brackett\, Ph.D. (FAN ’19\, ’25)\, the founding director of the Yale Center for Emotional Intelligence\, a professor in the Child Study Center at Yale University\, and the author of the 2019 bestselling book Permission to Feel and 2025’s Dealing with Feeling. \nThis event is suitable for youth 12+. It will be recorded and available on FAN’s website and YouTube channel. \nSponsored by FAN\, in partnership with The Alliance for Early Childhood\, The Avery Coonley School\, Avoca D37\, Baker Demonstration School\, Barrington D220\, Beacon Academy\, Bennett Day School\, Bernard Zell Anshe Emet Day School\, Brickton Montessori School\, British International School of Chicago\, Catherine Cook School\, Compass Health Center\, Countryside Day School\, The Cove School\, Evanston Scholars\, Evanston Township HS D202\, Family Service Center\, Foundation 65\, The Frances Xavier Warde School\, Francis W. Parker School\, Glencoe D35\, Glenview Public Library\, Gorton Center\, Hyde Park Day School\, Illinois Student Assistance Commission\, Kenilworth D38\, Lake Bluff D65\, Latin School of Chicago\, Leo Catholic High School\, Libertyville D70\, Lycée Français de Chicago\, Magnetar Capital\, North Shore Country Day\, Northwestern University Office of Neighborhood and Community Relations\, Northwestern University School of Education and Social Policy\, Pope John XXIII School\, Regina Dominican High School\, Resurrection College Prep High School\, Rogers Park Montessori School\, Roycemore School\, Santa Clara University School of Law\, Science & Arts Academy\, The Sonia Shankman Orthogenic School\, Stevenson High School D125\, Township High School D113\, Township High School D214\, TrueNorth Educational Cooperative #804\, UChicago Network for College Success\, Wilmette Public Library\, Winnetka D36\, Wolcott College Prep\, Woodlands Academy\, Youth & Opportunity United.
URL:https://familyservicecenter.org/calendar/fan-the-creativity-choice-the-science-of-making-decisions-to-turn-ideas-into-action/
LOCATION:Zoom
CATEGORIES:Community Event,Community Partner Event,FAN Event,Parenting
ATTACH;FMTTYPE=image/jpeg:https://familyservicecenter.org/wp-content/uploads/2026/03/PringleFlyer-scaled.jpg
ORGANIZER;CN="FAN%3A Family Action Network":MAILTO:info@familyactionnetwork.net
END:VEVENT
BEGIN:VEVENT
DTSTART;TZID=America/Chicago:20260319T190000
DTEND;TZID=America/Chicago:20260319T200000
DTSTAMP:20260423T055540
CREATED:20260303T221040Z
LAST-MODIFIED:20260303T221040Z
UID:11305-1773946800-1773950400@familyservicecenter.org
SUMMARY:[FAN] A Life of Art\, Music\, and Changing the Culture
DESCRIPTION:Thursday\, March 19\, 2026 | 7:00 PM CT \nEverybody’s Fly: Art\, Music\, and Changing the Culture\nA FAN in-person featuring Fab 5 Freddy\, in conversation with Theaster Gates\nEvanston Township High School Auditorium\, 1600 Dodge Ave.\, Door 6\, Evanston\, IL 60201 \nNo registration required. \nBonus Book Giveaway: FAN is giving away copies of Everybody’s Fly to attendees\, while supplies last. \nBlondie’s declaration on their 1980 hit “Rapture” introduced listeners around the world to Fred Brathwaite\, also known as Fab 5 Freddy\, a pioneering cultural icon whose fearless creativity reshaped the worlds of art\, style\, and music. Next spring\, Viking is proud to publish his electrifying memoir Everybody’s Fly: A Life of Art\, Music\, and Changing the Culture. \nEverybody’s Fly is an essential\, street-level cultural history from one of our most curious\, passionate\, and inspiring minds still working today. Picking up where Patti Smith’s (FAN ’19) Just Kids leaves off\, it offers an intimate look into how New York’s underground art and music scene—guided by Fab’s singular vision of what could be possible— irrevocably transformed mainstream culture from the late 1970s to today. \nBecause Fab doesn’t just have a great story—he is the story. Name a seismic cultural shift of the last five decades\, and chances are\, he wasn’t just there—he was making it happen. He’s the graffiti artist who turned subway tags into fine art\, showing his work most recently at the Saatchi Gallery in London; the visionary behind the first hip-hop movie; the bridge between Jean-Michel Basquiat and the downtown punk scene; the first person to take rap global on MTV as the original host of Yo! MTV Raps; the director behind iconic music videos for Snoop Dog\, Nas\, Queen Latifah\, and KRS-One; and\, of course\, the inspiration for the opening rhyme of Blondie’s number one smash hit “Rapture”—the song that propelled hip-hop from the Bronx to popular culture for the first time. With a spirit of joyful creativity\, he shattered racial and artistic boundaries\, bridging worlds and bringing underground movements to the mainstream. \nVibrant\, rhapsodic\, and compulsively readable\, Everybody’s Fly is a love letter to the art of seeing\, a fascinating account of an inimitable creative life\, and a celebration of what it means to shape culture. \nFab will be in conversation with Theaster Gates\, world-renowned artist\, archivist\, social innovator\, and professor and Special Advisor to the President at the University of Chicago. Gates creates work that focuses on space theory and land development\, sculpture\, and performance. \nThis event is suitable for youth ages 12 and up. It will be recorded but not live streamed and available on FAN’s website and YouTube channel. \nSponsored by FAN\, in partnership with The Avery Coonley School\, Avoca D37\, Baker Demonstration School\, Beacon Academy\, Bennett Day School\, Bernard Zell Anshe Emet Day School\, Brickton Montessori School\, British International School of Chicago\, Catherine Cook School\, Compass Health Center\, Countryside Day School\, Evanston Scholars\, Evanston Township HS D202\, Family Service Center\, Foundation 65\, The Frances Xavier Warde School\, Francis W. Parker School\, Glenview Public Library\, Gorton Center\, Hyde Park Day School\, Illinois Student Assistance Commission\, Kenilworth D38\, Lake Bluff D65\, Lake Forest Community High School D115\, Latin School of Chicago\, Leo Catholic High School\, Libertyville D70\, Lycée Français de Chicago\, North Shore Country Day\, Northwestern University Office of Neighborhood and Community Relations\, Northwestern University School of Education and Social Policy\, Pope John XXIII School\, Regina Dominican High School\, Resurrection College Prep High School\, Rogers Park Montessori School\, Roycemore School\, Santa Clara University School of Law\, Science & Arts Academy\, The Sonia Shankman Orthogenic School\, Stevenson High School D125\, Township High School D113\, Township High School D214\, TrueNorth Educational Cooperative #804\, Wilmette Public Library\, Woodlands Academy\, Youth & Opportunity United.
URL:https://familyservicecenter.org/calendar/fan-a-life-of-art-music-and-changing-the-culture/
LOCATION:Evanston Township High School Auditorium\, 1600 Dodge Ave\, Evanston\, IL\, 60201
CATEGORIES:Community Event,Community Partner Event,FAN Event,Parenting
ATTACH;FMTTYPE=image/jpeg:https://familyservicecenter.org/wp-content/uploads/2026/03/BrathwaiteFlyer.jpg
ORGANIZER;CN="FAN%3A Family Action Network":MAILTO:info@familyactionnetwork.net
END:VEVENT
END:VCALENDAR