BEGIN:VCALENDAR
VERSION:2.0
PRODID:-//Family Service Center (FSC) - ECPv6.15.20//NONSGML v1.0//EN
CALSCALE:GREGORIAN
METHOD:PUBLISH
X-ORIGINAL-URL:https://familyservicecenter.org
X-WR-CALDESC:Events for Family Service Center (FSC)
REFRESH-INTERVAL;VALUE=DURATION:PT1H
X-Robots-Tag:noindex
X-PUBLISHED-TTL:PT1H
BEGIN:VTIMEZONE
TZID:America/Chicago
BEGIN:DAYLIGHT
TZOFFSETFROM:-0600
TZOFFSETTO:-0500
TZNAME:CDT
DTSTART:20240310T080000
END:DAYLIGHT
BEGIN:STANDARD
TZOFFSETFROM:-0500
TZOFFSETTO:-0600
TZNAME:CST
DTSTART:20241103T070000
END:STANDARD
BEGIN:DAYLIGHT
TZOFFSETFROM:-0600
TZOFFSETTO:-0500
TZNAME:CDT
DTSTART:20250309T080000
END:DAYLIGHT
BEGIN:STANDARD
TZOFFSETFROM:-0500
TZOFFSETTO:-0600
TZNAME:CST
DTSTART:20251102T070000
END:STANDARD
BEGIN:DAYLIGHT
TZOFFSETFROM:-0600
TZOFFSETTO:-0500
TZNAME:CDT
DTSTART:20260308T080000
END:DAYLIGHT
BEGIN:STANDARD
TZOFFSETFROM:-0500
TZOFFSETTO:-0600
TZNAME:CST
DTSTART:20261101T070000
END:STANDARD
END:VTIMEZONE
BEGIN:VEVENT
DTSTART;TZID=America/Chicago:20250405T143000
DTEND;TZID=America/Chicago:20250405T163000
DTSTAMP:20260424T081800
CREATED:20250311T175715Z
LAST-MODIFIED:20250311T204000Z
UID:10722-1743863400-1743870600@familyservicecenter.org
SUMMARY:Wilmette Mental Health Fair
DESCRIPTION:Join FSC\, FSC’s Co-Executive Director Dr. Renee Dominguez\, and community partner organizations at First Presbyterian Church of Wilmette for this important event. Leave with tangible steps toward positive mental health. All are welcome! \nThere will be an expert panel discussion moderated by Dr. Dominguez: “Navigating the Anxious Generation: How We Can Empower Our Kids.” You will also have the chance to learn more about local agencies and community partners before and after the panel. \nWhen: Saturday\, April 5th\, 2025 2:30pm – 4:30pm (expert panel from 3:00pm – 4:00pm)\nWhere: First Presbyterian Church of Wilmette\, 600 9th St\, Wilmette\nRegister: Registration encouraged but not required\, scan the QR code above or click here to register. \nWe hope to see you there!
URL:https://familyservicecenter.org/calendar/wilmette-mental-health-fair/
LOCATION:First Presbyterian Church of Wilmette\, 600 9th St\, Wilmette\, IL\, 60091
CATEGORIES:Community Event,Community Partner Event,Parenting
ATTACH;FMTTYPE=image/png:https://familyservicecenter.org/wp-content/uploads/2025/03/Wilmette-Mental-Health-Fair-Flyer-April-5-2025-FINAL.png
END:VEVENT
END:VCALENDAR