BEGIN:VCALENDAR
VERSION:2.0
PRODID:-//Family Service Center (FSC) - ECPv6.15.20//NONSGML v1.0//EN
CALSCALE:GREGORIAN
METHOD:PUBLISH
X-WR-CALNAME:Family Service Center (FSC)
X-ORIGINAL-URL:https://familyservicecenter.org
X-WR-CALDESC:Events for Family Service Center (FSC)
REFRESH-INTERVAL;VALUE=DURATION:PT1H
X-Robots-Tag:noindex
X-PUBLISHED-TTL:PT1H
BEGIN:VTIMEZONE
TZID:America/Chicago
BEGIN:DAYLIGHT
TZOFFSETFROM:-0600
TZOFFSETTO:-0500
TZNAME:CDT
DTSTART:20210314T080000
END:DAYLIGHT
BEGIN:STANDARD
TZOFFSETFROM:-0500
TZOFFSETTO:-0600
TZNAME:CST
DTSTART:20211107T070000
END:STANDARD
BEGIN:DAYLIGHT
TZOFFSETFROM:-0600
TZOFFSETTO:-0500
TZNAME:CDT
DTSTART:20220313T080000
END:DAYLIGHT
BEGIN:STANDARD
TZOFFSETFROM:-0500
TZOFFSETTO:-0600
TZNAME:CST
DTSTART:20221106T070000
END:STANDARD
BEGIN:DAYLIGHT
TZOFFSETFROM:-0600
TZOFFSETTO:-0500
TZNAME:CDT
DTSTART:20230312T080000
END:DAYLIGHT
BEGIN:STANDARD
TZOFFSETFROM:-0500
TZOFFSETTO:-0600
TZNAME:CST
DTSTART:20231105T070000
END:STANDARD
BEGIN:DAYLIGHT
TZOFFSETFROM:-0600
TZOFFSETTO:-0500
TZNAME:CDT
DTSTART:20240310T080000
END:DAYLIGHT
BEGIN:STANDARD
TZOFFSETFROM:-0500
TZOFFSETTO:-0600
TZNAME:CST
DTSTART:20241103T070000
END:STANDARD
END:VTIMEZONE
BEGIN:VEVENT
DTSTART;TZID=America/Chicago:20230922T170000
DTEND;TZID=America/Chicago:20230922T220000
DTSTAMP:20260425T055041
CREATED:20230610T030134Z
LAST-MODIFIED:20230810T192417Z
UID:6647-1695402000-1695420000@familyservicecenter.org
SUMMARY:2nd Annual FSC Pickleball Social
DESCRIPTION:Join us again\, or for the first time on the Pickleball Courts at Sky Fitness to Rally for Mental Health!  The 2nd annual Pickleball Social will bring out a philanthropic and competitive spirit\, along with lots of laughter and a good work out! Come learn if you are new to Pickleball or play for bragging rights and a chance to win the night’s raffle prizes. In the Kitchen Lounge players and spectators can cool down and enjoy a chance to mingle\, grab a snack and a beverage before or after their time on the court. Fun\, fitness\, and philanthropy made for a great night! \nPickleball flyer 2023 \nInterested in being an event Sponsor? Pickleball Sponsor or In-kind flyer
URL:https://familyservicecenter.org/calendar/2nd-annual-pickleball-social/
LOCATION:Sky Fitness\, 1501 Busch Pkwy.\, Buffalo Grove\, IL\, 60089\, United States
CATEGORIES:FSC Fundraiser
ATTACH;FMTTYPE=image/png:https://familyservicecenter.org/wp-content/uploads/2023/06/Pickleball-Logo-2023-lava-e1691872759434.png
END:VEVENT
BEGIN:VEVENT
DTSTART;TZID=America/Chicago:20230921T190000
DTEND;TZID=America/Chicago:20230921T190000
DTSTAMP:20260425T055041
CREATED:20230910T203830Z
LAST-MODIFIED:20230910T210403Z
UID:8484-1695322800-1695322800@familyservicecenter.org
SUMMARY:[FAN] Never Enough: When Achievement Culture Becomes Toxic and What We Can Do About It
DESCRIPTION:Never Enough: When Achievement Culture Becomes Toxic and What We Can Do About It\, featuring Jennifer Breheny Wallace and Denise Dubravec. \nThe event will take place at New Trier High School\, Northfield Campus\, Cornog Auditorium\, 7 Happ Rd.\, Northfield\, IL 60093. \nNOTE: First 100 households will receive a free copy of Never Enough. Books will also be on sale. No registration required. \nIn the ever more competitive race to secure the best possible future\, today’s students face unprecedented pressure to succeed. They jam-pack their schedules with AP classes\, fill every waking hour with resume-padding activities\, and even sabotage relationships with friends to “get ahead.” Family incomes and schedules are stretched to the breaking point by tutoring fees and athletic schedules. Yet this drive to optimize performance has only resulted in skyrocketing rates of anxiety\, depression\, and even self-harm in America’s highest achieving schools. Parents\, educators\, and community leaders are facing the same quandary: how can we teach our kids to strive towards excellence without crushing them?
URL:https://familyservicecenter.org/calendar/fan-event-never-enough-when-achievement-culture-becomes-toxic-and-what-we-can-do-about-it/
LOCATION:New Trier High School\, Northfield Campus\, Cornog Auditorium\, 7 Happ Rd.\,\, Northfield\, 60093\, United States
CATEGORIES:Anxiety,Community Event,Community Partner Event,Depression,FAN Event,Parenting
ATTACH;FMTTYPE=application/pdf:https://familyservicecenter.org/wp-content/uploads/2023/09/WallaceFlyerReleaseOpt.pdf
ORGANIZER;CN="FAN%3A Family Action Network":MAILTO:info@familyactionnetwork.net
END:VEVENT
BEGIN:VEVENT
DTSTART;TZID=America/Chicago:20230919T190000
DTEND;TZID=America/Chicago:20230919T190000
DTSTAMP:20260425T055041
CREATED:20230910T202232Z
LAST-MODIFIED:20230910T210509Z
UID:8477-1695150000-1695150000@familyservicecenter.org
SUMMARY:[FAN] Random Acts of Medicine: The Hidden Forces That Sway Doctors\, Impact Patients\, and Shape Our Health
DESCRIPTION:Tuesday\, September 19\, 2023\, 7:00 PM CT \nRandom Acts of Medicine: The Hidden Forces That Sway Doctors\, Impact Patients\, and Shape Our Health\nfeaturing Anupam Bapu Jena\, MD\, Ph.D. and Robert Kolker. \nWhy do kids born in the summer get diagnosed more often with ADHD and the flu? How are marathons harmful for your health\, even when you’re not running? What do surgeons and salesmen have in common? Which annual event made people 30 percent more likely to get COVID-19? As a University of Chicago-trained economist and Harvard medical school professor and doctor\, Anupam Bapu Jena\, MD\, Ph.D. is uniquely equipped to answer these questions.
URL:https://familyservicecenter.org/calendar/fan-event-random-acts-of-medicine-the-hidden-forces-that-sway-doctors-impact-patients-and-shape-our-health/
LOCATION:Zoom
CATEGORIES:FAN Event
ATTACH;FMTTYPE=application/pdf:https://familyservicecenter.org/wp-content/uploads/2023/09/JenaFlyerReleaseOpt.pdf
ORGANIZER;CN="FAN%3A Family Action Network":MAILTO:info@familyactionnetwork.net
END:VEVENT
BEGIN:VEVENT
DTSTART;TZID=America/Chicago:20230916T180000
DTEND;TZID=America/Chicago:20230916T230000
DTSTAMP:20260425T055041
CREATED:20230801T054608Z
LAST-MODIFIED:20230910T210551Z
UID:7543-1694887200-1694905200@familyservicecenter.org
SUMMARY:[MLB GLENVIEW] Rocktember Fest
DESCRIPTION:Support FSC along with other local worthy causes while having fun with the men of Making Lives Better of Glenview. \n$75 per ticket \nPre-sale $50 through August 15th\nTickets Purchased: https://mlbglenview.org/products/rocktemberfest-2023
URL:https://familyservicecenter.org/calendar/rocktember-fest/
LOCATION:MLB Glenview\, 1948-D Lehigh Road\, Glenview\, IL\, United States
CATEGORIES:Community Event,Community Partner Event,FSC Fundraiser
ATTACH;FMTTYPE=image/jpeg:https://familyservicecenter.org/wp-content/uploads/2023/08/MLB.Rockteberfest.jpeg
END:VEVENT
BEGIN:VEVENT
DTSTART;TZID=America/Chicago:20230912T120000
DTEND;TZID=America/Chicago:20230912T130000
DTSTAMP:20260425T055042
CREATED:20230822T210723Z
LAST-MODIFIED:20230910T210603Z
UID:8394-1694520000-1694523600@familyservicecenter.org
SUMMARY:[CATCH] Raising Digital Natives
DESCRIPTION:CATCH LUNCH AND LEARN\nTuesday\,  September 12 at noon via zoom\, \n“Raising Digital Natives: Ensuring our Kids Use Technology Responsibly”  \nSpeaker:  Brittani Sitar – Addiction Counselor and Mental Health Educator\nRegister for Zoom link here
URL:https://familyservicecenter.org/calendar/raising-digital-natives/
LOCATION:Zoom
CATEGORIES:Community Partner Event,Parenting
ATTACH;FMTTYPE=application/pdf:https://familyservicecenter.org/wp-content/uploads/2023/08/Lunch-Learn-Raising-Digital-Natives-2.pdf
END:VEVENT
BEGIN:VEVENT
DTSTART;TZID=America/Chicago:20230910T081500
DTEND;TZID=America/Chicago:20230910T081500
DTSTAMP:20260425T055042
CREATED:20230802T231325Z
LAST-MODIFIED:20230825T134324Z
UID:7764-1694333700-1694333700@familyservicecenter.org
SUMMARY:Hero Hustle
DESCRIPTION: Hero Hustle\,a fun\, community race organized by theGlenview Sunrise Rotary club!\n\nJoin in the fun on Sunday\, September 10\, 2023 at 8:15 am for a fun run through beautiful Glenview neighborhoods.  Sign up for the 1 mile\, 5k\, or 10k run HERE. This annual event is held to raise funds for our annual community Service projects throughout Glenview\, neighboring areas\, and other communities in need. FSC has been a long-time benefactor of this awesome annual community event! Sign up today! \n 
URL:https://familyservicecenter.org/calendar/hero-hustle/
LOCATION:Hero Hustle Starting Line\, 2000 Harrison St\, Glenview\, 60025\, United States
CATEGORIES:Community Event,Community Partner Event,FSC Fundraiser
ATTACH;FMTTYPE=image/jpeg:https://familyservicecenter.org/wp-content/uploads/2023/08/hero-hustle-1.jpg
END:VEVENT
BEGIN:VEVENT
DTSTART;TZID=America/Chicago:20230909T180000
DTEND;TZID=America/Chicago:20230909T210000
DTSTAMP:20260425T055042
CREATED:20230825T134855Z
LAST-MODIFIED:20230825T135304Z
UID:8415-1694282400-1694293200@familyservicecenter.org
SUMMARY:Taste of Glenview
DESCRIPTION:Join Glenview Sunrise Rotary on Saturday September 9\, 2023 from 6:00 p.m. – 9:00 p.m. at Glenview Luxury Imports! \nLight Bites and Live Music will be available.  Tickets are $30 and can be purchased HERE. \nIn partnership with Glenview Firefighters Union #4186. \nFeaturing local food and drink partners: \n\nRiobamba Latin Kitchen\nGreenwood Grill\nJibek Jolu\nCulinary Gangster\nJoe Donut\nCafe Bar Smetana\nSiunik Armenian Grill\nThai Inbox\nValley Lodge\nWildfire\n​Plateia Mediterranean Kitchen\n\nLive music\, raffle\, and more. \nFind more information about Taste of Glenview and Glenview Sunrise Rotary at TasteofGlenview.org. \nTo donate to Rotary Service projects without attending the dinner\, see ticket option for “Donation Only” ticket.
URL:https://familyservicecenter.org/calendar/taste-of-glenview/
LOCATION:Glenview Luxury Imports Car Dealership\, 301 Waukegan Road\, Glenview\, IL\, 60025\, United States
CATEGORIES:Community Event,Community Partner Event
ATTACH;FMTTYPE=image/png:https://familyservicecenter.org/wp-content/uploads/2023/08/taste-of-glenview-1.png
END:VEVENT
BEGIN:VEVENT
DTSTART;TZID=America/Chicago:20230809T150000
DTEND;TZID=America/Chicago:20230809T180000
DTSTAMP:20260425T055042
CREATED:20230801T053227Z
LAST-MODIFIED:20230812T205014Z
UID:7535-1691593200-1691604000@familyservicecenter.org
SUMMARY:2023 District 34 Community Connect Fair
DESCRIPTION:Get ready for the 2023-2024 school year by connecting with friends\, neighbors\, and community resources! \nJoin us on Wednesday\, August 9 from 3:00pm to 6:00pm at Attea Middle School (2500 Chestnut Avenue\, Glenview). You can connect with resources\, including: \n\nD34 Registration/Residency\nD34 Transportation\nD34 Food & Nutrition Services\nD34 HR: Explore D34 as a great place to work!\nD34 Parent Organizations (Gelfand\, GEF\, PTAs & BPACs)\nHealth providers with opportunities for back-to-school physicals\nNorthfield Township (food pantry and emergency services)\nFamily Service Center (counseling services)\nYouth Services of Glenview (counseling/other support services)\nNorth Shore Legal Aid Clinic\nVillage of Glenview & Glenview Senior Services\nGlenview Public Library\nGlenview Park District\n…and so much more!
URL:https://familyservicecenter.org/calendar/2023-district-34-community-connect-fair/
LOCATION:Attea Middle School\, 2500 Chestnut Avenue\,\, Glenview\, 60026\, United States
CATEGORIES:Community Event,Community Partner Event,Parenting
ATTACH;FMTTYPE=image/jpeg:https://familyservicecenter.org/wp-content/uploads/2023/08/d34-fair-8.9.23.jpg
END:VEVENT
BEGIN:VEVENT
DTSTART;TZID=America/Chicago:20230805T163000
DTEND;TZID=America/Chicago:20230805T183000
DTSTAMP:20260425T055042
CREATED:20230804T191415Z
LAST-MODIFIED:20230812T205159Z
UID:8143-1691253000-1691260200@familyservicecenter.org
SUMMARY:FSC Open House
DESCRIPTION:Come Visit FSC Offices and Meet our Bilingual Spanish Counseling Team! \nStop in any time between 4:30pm to 6:30pm. Bring the whole family!\nEnjoy goodies\, treats and crafts and visit with FSC staff at their offices in Northfield IL. \nQuestions? Reach out to us at programa-espanol@familyservicecenter.com \nOpen House Real Estate Instagram Post (2)
URL:https://familyservicecenter.org/calendar/fsc-open-house/
LOCATION:FSC Offices\, 191 Waukegan Rd.\, Suite 206\, Northfield\, IL\, 60093\, United States
CATEGORIES:Community Event,Parenting,Spanish Language
ATTACH;FMTTYPE=image/jpeg:https://familyservicecenter.org/wp-content/uploads/2023/08/open-house.jpg
ORGANIZER;CN="Family Service Center":MAILTO:info@familyservicecenter.com
END:VEVENT
BEGIN:VEVENT
DTSTART;TZID=America/Chicago:20230506T140000
DTEND;TZID=America/Chicago:20230506T173000
DTSTAMP:20260425T055042
CREATED:20230331T010006Z
LAST-MODIFIED:20250216T010020Z
UID:5724-1683381600-1683394200@familyservicecenter.org
SUMMARY:2023 Annual Kaleidoscope Benefit
DESCRIPTION:FSC’s 2023 Annual Vegas-Styled Night will feature the fun of last year’s event with a Kentucky Derby Day twist! Don’t miss out on the fun. \nGet your tickets now\, during the early bird pricing and before they are sold out! Mark your calendar. \nConsider your hat wearing possibilities until May!
URL:https://familyservicecenter.org/calendar/fscs-2023-all-in-on-hope/
LOCATION:Fields Chrysler Jeep Dodge RAM Glenview\, 2800 Patriot Blvd\, Glenview\, IL\, 60026\, United States
CATEGORIES:FSC Fundraiser
ATTACH;FMTTYPE=image/png:https://familyservicecenter.org/wp-content/uploads/2023/03/logo-2023-casino-night-FINAL-1.17.23.png
END:VEVENT
BEGIN:VEVENT
DTSTART;TZID=America/Chicago:20230412T110000
DTEND;TZID=America/Chicago:20230412T130000
DTSTAMP:20260425T055042
CREATED:20230313T224641Z
LAST-MODIFIED:20230812T205234Z
UID:5063-1681297200-1681304400@familyservicecenter.org
SUMMARY:Container  Planting Lesson  & Lunch   [FSC Creative Experience]
DESCRIPTION:Grab a Friend! Spots still Available!  \nLearn the tricks to creating a beautiful spring container! Order Tickets \nJoin James Martin Associates to build your own 12” outdoor spring container & learn all about potting and planting for the spring. All plant material and containers will be provided. Once finished\, we will enjoy lunch! \n$75.00 per person  \n(5 to 12 guests*) \n*Should an event not meet the minimum number of guests required\, the event will be cancelled\, and your registration fee refunded.
URL:https://familyservicecenter.org/calendar/container-planting-lesson-lunch-fsc-creative-experience/
LOCATION:James Martin & Associates\, Mundelein\, IL\, United States
CATEGORIES:FSC Fundraiser
ATTACH;FMTTYPE=image/jpeg:https://familyservicecenter.org/wp-content/uploads/2023/02/ph_container.jpg
ORGANIZER;CN="Family Service Center":MAILTO:info@familyservicecenter.com
END:VEVENT
BEGIN:VEVENT
DTSTART;TZID=America/Chicago:20230315T140000
DTEND;TZID=America/Chicago:20230315T150000
DTSTAMP:20260425T055042
CREATED:20230313T224002Z
LAST-MODIFIED:20230825T135226Z
UID:5054-1678888800-1678892400@familyservicecenter.org
SUMMARY:Parenting Through Puberty: Changing Kids in a Changing World
DESCRIPTION:Do you wonder how to open the door for conversation with your child\, who seems to be changing rapidly — and responding with BIG emotions even more rapidly — who communicates primarily through social media\, and who seems to be evolving into someone you aren’t sure you really know? \nDo you need help finding ways to approach them so they actually listen? You are not alone. \nThis presentation is designed to support parents in navigating some of the difficult topics of adolescence\, including body changes\, emerging sexuality\, and increasing peer relationships. Parents will learn concrete strategies to support their child and practice skills to keep communication open. \nThis program is open to the public and is part of the District 34 ParentConnect Program. D34 ParentConnect is the parent education initiative designed to provide ongoing opportunities for parents to learn and connect throughout the year. It has been a partnership between District 34 and the Family Service Center (FSC) and\, new in 2022-2023\, look for important parent programs from GNCY!
URL:https://familyservicecenter.org/calendar/parenting-through-puberty-changing-kids-in-a-changing-world/
LOCATION:Springman Middle School\, 2701 Central Rd\, Glenview\, United States
CATEGORIES:Community Event,Parenting
ATTACH;FMTTYPE=image/png:https://familyservicecenter.org/wp-content/uploads/2023/03/2023-Parenting-Through-Puberty-Flier.png
END:VEVENT
BEGIN:VEVENT
DTSTART;TZID=America/Chicago:20230202T123000
DTEND;TZID=America/Chicago:20230202T153000
DTSTAMP:20260425T055042
CREATED:20221222T183951Z
LAST-MODIFIED:20230825T135240Z
UID:3410-1675341000-1675351800@familyservicecenter.org
SUMMARY:Charcuterie Board Making Party - Babs Boards
DESCRIPTION:Have you always wanted to learn how to make a salami rose?\nNow is your chance!\nBabs Boards will teach you this and other Babs Boards tricks to design the perfect board during this charcuterie class!\nEach participant will take home a Babs Board\, perfect for 2-3 people to enjoy!\nThis is a hands-on\, interactive class and will be a lot of fun.\nNo need to bring anything – Babs Boards will provide you all of the materials needed to make the perfect charcuterie board to bring home to share with family and friends.
URL:https://familyservicecenter.org/calendar/charcuterie-board-making-party-babs-boards/
LOCATION:Woodland Dr.\, 940 Woodland Dr.\, Glenview\, IL\, United States
CATEGORIES:FSC Fundraiser
ATTACH;FMTTYPE=image/jpeg:https://familyservicecenter.org/wp-content/uploads/2022/12/img_charcuterie_big.jpg
END:VEVENT
BEGIN:VEVENT
DTSTART;TZID=America/Chicago:20221215T123000
DTEND;TZID=America/Chicago:20221215T140000
DTSTAMP:20260425T055042
CREATED:20221207T214131Z
LAST-MODIFIED:20230812T204552Z
UID:2465-1671107400-1671112800@familyservicecenter.org
SUMMARY:Cake Decorating Party: Creative Experiences - Connect\, Inspire\, give Hope!
DESCRIPTION:We know mental wellness means taking care of your overall health and wellbeing. Social connections\, laughter\, and creativity are a few ways to do just that\, so FSC is offering the following fun and creative opportunities to grab a friend or meet new ones while also making a small donation to FSC. This is a great way to enjoy a night out\, learn a new skill\, and help support FSC’s efforts in the community. \nLearn how to decorate a beautiful cake – bring home your new creation for holiday entertaining! You will be provided with 3 (5″) unfrosted cake layers\, frosting\, food coloring\, piping bags with tips to add borders and details\, sprinkles\, and a box in which to take it home. Instruction will be provided on great techniques to create a beautiful cake! \n$75.00 per person (10 to 14 guests*) Reserve Your Spot!
URL:https://familyservicecenter.org/calendar/creative-experiences-connect-inspire-give-hope/
LOCATION:Dunbrook Plaza\, 2750 Dundee Rd\, Unit 4\, Northbrook\, United States
ATTACH;FMTTYPE=image/jpeg:https://familyservicecenter.org/wp-content/uploads/2022/12/cake-768x502-1.jpg
END:VEVENT
END:VCALENDAR