BEGIN:VCALENDAR
VERSION:2.0
PRODID:-//Family Service Center (FSC) - ECPv6.15.20//NONSGML v1.0//EN
CALSCALE:GREGORIAN
METHOD:PUBLISH
X-ORIGINAL-URL:https://familyservicecenter.org
X-WR-CALDESC:Events for Family Service Center (FSC)
REFRESH-INTERVAL;VALUE=DURATION:PT1H
X-Robots-Tag:noindex
X-PUBLISHED-TTL:PT1H
BEGIN:VTIMEZONE
TZID:America/Chicago
BEGIN:DAYLIGHT
TZOFFSETFROM:-0600
TZOFFSETTO:-0500
TZNAME:CDT
DTSTART:20240310T080000
END:DAYLIGHT
BEGIN:STANDARD
TZOFFSETFROM:-0500
TZOFFSETTO:-0600
TZNAME:CST
DTSTART:20241103T070000
END:STANDARD
BEGIN:DAYLIGHT
TZOFFSETFROM:-0600
TZOFFSETTO:-0500
TZNAME:CDT
DTSTART:20250309T080000
END:DAYLIGHT
BEGIN:STANDARD
TZOFFSETFROM:-0500
TZOFFSETTO:-0600
TZNAME:CST
DTSTART:20251102T070000
END:STANDARD
BEGIN:DAYLIGHT
TZOFFSETFROM:-0600
TZOFFSETTO:-0500
TZNAME:CDT
DTSTART:20260308T080000
END:DAYLIGHT
BEGIN:STANDARD
TZOFFSETFROM:-0500
TZOFFSETTO:-0600
TZNAME:CST
DTSTART:20261101T070000
END:STANDARD
END:VTIMEZONE
BEGIN:VEVENT
DTSTART;TZID=America/Chicago:20250709T100000
DTEND;TZID=America/Chicago:20250709T170000
DTSTAMP:20260425T082006
CREATED:20250527T202904Z
LAST-MODIFIED:20250527T202904Z
UID:10811-1752055200-1752080400@familyservicecenter.org
SUMMARY:2025 FSC Neon Golf Scramble
DESCRIPTION:Join us for the 2025 FSC Neon Golf Scramble! \nWhen: July 9\, 2025\nWhere: Wilmette Golf Club\, Wilmette IL (3900 Fairway Dr\, Wilmette\, IL 60091) \nTickets include grab-and-go lunch and one (1) beverage cart ticket per player. \nCheck-in starts: 10:00am\nLong-Putt Contest: 10:45am\nShotgun Start: 12:00pm\nRaffle Closes: 3:00pm \nGrab your foursome\, or register yourself and we will assign you to a team.\nParticipants will check-in at 10am and be ready for a shotgun start at noon\, where they will enjoy a golf team scramble\, plus exciting contests and games. \nGet tickets for our raffle for a chance to win amazing prizes. Long-putt contest and mulligans are also available. \nTogether\, we will drive change\, promote mental wellness\, and create a brighter future for those who use our services. Don’t miss out on this incredible opportunity to swing for a cause! Neon attire encouraged! \nSponsorships available here! Or reach out to sponsors@familyservicecenter.com \n 
URL:https://familyservicecenter.org/calendar/2025-fsc-neon-golf-scramble/
LOCATION:Wilmette Golf Club\, 3900 Fairway Dr\, Wilmette\, IL\, 60091
CATEGORIES:Community Event,FSC Fundraiser
ATTACH;FMTTYPE=image/png:https://familyservicecenter.org/wp-content/uploads/2025/05/golf-header.png
ORGANIZER;CN="Family Service Center":MAILTO:info@familyservicecenter.com
END:VEVENT
END:VCALENDAR